BEGIN:VCALENDAR
VERSION:2.0
PRODID:-//ChamberMaster//Event Calendar 2.0//EN
METHOD:PUBLISH
X-PUBLISHED-TTL:P3D
REFRESH-INTERVAL:P3D
CALSCALE:GREGORIAN
BEGIN:VEVENT
DTSTART:20190507T183000Z
DTEND:20190507T200000Z
X-MICROSOFT-CDO-ALLDAYEVENT:FALSE
SUMMARY:No Homeless Kids Benefit Luncheon
DESCRIPTION:Children shouldn't be homeless   yet the number is rising. They need your help more than ever. Come hear from a formerly homeless parent who worked hard to forge a new path for their family\, and how you can support those following in their steps. Also hear from world-renowned expert on depression\, anxiety and abuse\, Dr. Gregory Jantz\, Ph.D.
X-ALT-DESC;FMTTYPE=text/html:Children shouldn&rsquo\;t be homeless &ndash\; yet the number is rising. They need your help more than ever. Come hear from a formerly homeless parent who worked hard to forge a new path for their family\, and how you can support those following in their steps. Also hear from world-renowned expert on depression\, anxiety and abuse\, Dr. Gregory Jantz\, Ph.D.
LOCATION:Meydenbauer Center 11100 NE 6th Street Bellevue\, WA 98004
UID:e.2591.2836
SEQUENCE:3
DTSTAMP:20260424T093736Z
URL:http://seattlesouthsidechamber.com/events/details/no-homeless-kids-benefit-luncheon-2836
END:VEVENT

END:VCALENDAR
