BEGIN:VCALENDAR
VERSION:2.0
PRODID:-//ChamberMaster//Event Calendar 2.0//EN
METHOD:PUBLISH
X-PUBLISHED-TTL:P3D
REFRESH-INTERVAL:P3D
CALSCALE:GREGORIAN
BEGIN:VEVENT
DTSTART:20170514T020000Z
DTEND:20170514T040000Z
X-MICROSOFT-CDO-ALLDAYEVENT:FALSE
SUMMARY:Music of Spain & South America
DESCRIPTION:This musical performance is presented by Ladies Musical Club of Seattle and is co-sponsored by the City of SeaTac.  It is free to attend\, however seating is limited so registration is required.  To register\, call the SeaTac Community Center at 206.973.4680.
X-ALT-DESC;FMTTYPE=text/html:<span style="font-family:calibri\,sans-serif\;"><span style="font-size:11.0pt\;">This musical performance is presented by Ladies Musical Club of Seattle and is co-sponsored by the City of SeaTac.&nbsp\; It is free to attend\, however seating is limited so registration is required.&nbsp\; To register\, call the SeaTac Community Center at 206.973.4680. &nbsp\;</span></span>
LOCATION:SeaTac Community Center 13735 24th Ave. S. SeaTac\, Washington 98168
UID:e.2591.778
SEQUENCE:3
DTSTAMP:20260426T010506Z
URL:http://seattlesouthsidechamber.com/events/details/music-of-spain-south-america-778
END:VEVENT

END:VCALENDAR
