BEGIN:VCALENDAR
VERSION:2.0
PRODID:-//ChamberMaster//Event Calendar 2.0//EN
METHOD:PUBLISH
X-PUBLISHED-TTL:P3D
REFRESH-INTERVAL:P3D
CALSCALE:GREGORIAN
BEGIN:VEVENT
DTSTART:20190317T220000Z
DTEND:20190317T233000Z
X-MICROSOFT-CDO-ALLDAYEVENT:FALSE
SUMMARY:“Music for the Soul” concert by the Northwest Symphony Orchestra
DESCRIPTION:"Ode to Joy" -- Join the Northwest Symphony Orchestra for Beethoven's Symphony No. 9 with soloists Alexandra Picard\, soprano\, Nerys Jones\, alto\, Timothy Janecke\, tenor\, Charles Robert Stephens\, bass\, Choral Sounds Northwest\, Columbia Choirs of Metropolitan Seattle\, and the Virginia Glee Club from the University of Virginia.
X-ALT-DESC;FMTTYPE=text/html:&quot\;Ode to Joy&quot\; -- Join the Northwest Symphony Orchestra for Beethoven&#39\;s Symphony No. 9 with soloists Alexandra Picard\, soprano\, Nerys Jones\, alto\, Timothy Janecke\, tenor\, Charles Robert Stephens\, bass\, Choral Sounds Northwest\, Columbia Choirs of Metropolitan Seattle\, and the Virginia Glee Club from the University of Virginia.
LOCATION:Bellevue Presbyterian Church 1717 Bellevue Way NE Bellevue\, WA 98004
UID:e.2591.2825
SEQUENCE:3
DTSTAMP:20260424T123903Z
URL:http://seattlesouthsidechamber.com/events/details/music-for-the-soul-concert-by-the-northwest-symphony-orchestra-2825
END:VEVENT

END:VCALENDAR
