BEGIN:VCALENDAR
VERSION:2.0
PRODID:-//ChamberMaster//Event Calendar 2.0//EN
METHOD:PUBLISH
X-PUBLISHED-TTL:P3D
REFRESH-INTERVAL:P3D
CALSCALE:GREGORIAN
BEGIN:VEVENT
DTSTART:20190317T030000Z
DTEND:20190317T043000Z
X-MICROSOFT-CDO-ALLDAYEVENT:FALSE
SUMMARY:“Music for the Soul” concert by the Northwest Symphony Orchestra
DESCRIPTION:"Ode to Joy" -- Join the Northwest Symphony Orchestra for Beethoven's Symphony No. 9 with soloists Alexandra Picard\, soprano\, Nerys Jones\, alto\, Timothy Janecke\, tenor\, Charles Robert Stephens\, bass\, Choral Sounds Northwest\, Columbia Choirs of Metropolitan Seattle\, and the Virginia Glee Club from the University of Virginia.
X-ALT-DESC;FMTTYPE=text/html:&quot\;Ode to Joy&quot\; -- Join the Northwest Symphony Orchestra for Beethoven&#39\;s Symphony No. 9 with soloists Alexandra Picard\, soprano\, Nerys Jones\, alto\, Timothy Janecke\, tenor\, Charles Robert Stephens\, bass\, Choral Sounds Northwest\, Columbia Choirs of Metropolitan Seattle\, and the Virginia Glee Club from the University of Virginia.
LOCATION:Holy Rosary Catholic Church 4139 42nd Ave SW Seattle\, WA 98116
UID:e.2591.2824
SEQUENCE:3
DTSTAMP:20260424T112211Z
URL:http://seattlesouthsidechamber.com/events/details/music-for-the-soul-concert-by-the-northwest-symphony-orchestra-2824
END:VEVENT

END:VCALENDAR
