BEGIN:VCALENDAR
VERSION:2.0
PRODID:-//ChamberMaster//Event Calendar 2.0//EN
METHOD:PUBLISH
X-PUBLISHED-TTL:P3D
REFRESH-INTERVAL:P3D
CALSCALE:GREGORIAN
BEGIN:VEVENT
DTSTART:20190316T203000Z
DTEND:20190316T230000Z
X-MICROSOFT-CDO-ALLDAYEVENT:FALSE
SUMMARY:Mount Rainier Pool Ribbon Cutting & Open Swim
DESCRIPTION:Join the Des Moines Pool Metropolitan Park District and Seattle Southside Chamber of Commerce for a ribbon cutting and celebration of the re-opening of Mount Rainier Pool. Come check out the new Wibit (Inflatable Pool Obstacle Course) and other fun activities. At this FREE event\, we will entertain the masses and bring a glimpse of summer during these cold winter months! Customers will enjoy free admission\, a photo booth and the obstacle course!\n\n\n\nThe District is partnering with Seattle Southside Chamber of Commerce to hold the ribbon cutting at 1:30pm with free coffee\, cookies\, donuts and juice.\n\n\n\nWe will then take the first 90 registrants to the pool. There will be no swim pre-registration. All patrons will be on a first-come\, first-serve basis. We will start having people sign-in at 2pm.
X-ALT-DESC;FMTTYPE=text/html:Join the Des Moines Pool Metropolitan Park District and Seattle Southside Chamber of Commerce for a ribbon cutting and celebration of the re-opening of Mount Rainier Pool.&nbsp\;Come check out the new Wibit (Inflatable Pool Obstacle Course) and other fun activities.&nbsp\;At this FREE event\,&nbsp\;we&nbsp\;will entertain the masses and bring a glimpse of summer during these cold winter months! Customers will enjoy free admission\,&nbsp\;a photo booth&nbsp\;and the obstacle course!<br />\n<br />\nThe District is partnering with Seattle Southside Chamber of Commerce to hold the ribbon cutting at 1:30pm with free coffee\, cookies\, donuts and juice.<br />\n<br />\nWe will then take the first 90 registrants to the pool. There will be no swim pre-registration. All patrons will be on a first-come\, first-serve basis. We will start having people sign-in at 2pm.
LOCATION:MOUNT RAINIER POOL 22722 S 19th Ave - Des Moines\, WA 98198
UID:e.2591.2881
SEQUENCE:3
DTSTAMP:20260424T093618Z
URL:http://seattlesouthsidechamber.com/events/details/mount-rainier-pool-ribbon-cutting-open-swim-2881
END:VEVENT

END:VCALENDAR
