BEGIN:VCALENDAR
VERSION:2.0
PRODID:-//ChamberMaster//Event Calendar 2.0//EN
METHOD:PUBLISH
X-PUBLISHED-TTL:P3D
REFRESH-INTERVAL:P3D
CALSCALE:GREGORIAN
BEGIN:VEVENT
DTSTART:20170208T210000Z
DTEND:20170209T000000Z
X-MICROSOFT-CDO-ALLDAYEVENT:FALSE
SUMMARY:Money on a Mission Expo
DESCRIPTION:Are you a small business leader looking for financing? Money on a Mission Expo connects small business owners and social entrepreneurs with local lenders and resources to help you build your dreams and our local\, just\, sustainable economy. NETWORK | CONNECT | LEARN The free one-day event will feature networking\, workshops and exhibitors\, including lenders and organizations that want to help your business grow. LOCATION Pacific Tower\, 1200 12th Avenue S\, Seattle\, WA 98144 SCHEDULE 1 PM | Registration opens 2 PM | Workshop: Accessing Capital to Fuel Your Growth 3 PM | Keynote Remarks by Kat Taylor\, Co-CEO and Co-Founder\, Beneficial State Bank 4 PM | Event concludes CONFIRMED EXHIBITORS B Labs Beneficial State Bank Business Impact NW Center for Inclusive Entrepreneurship City of Seattle Office of Economic Development Craft3 Evergreen Business Capital EXIM Bank Greater Seattle SCORE Impact Capital Rainier Valley Development Fund Small Business Administration Ventures Register here: https://impactflow.com/event/money-on-a-mission-expo-1376 Questions? Email Anne at ademelle@beneficialstate.org.
X-ALT-DESC;FMTTYPE=text/html:Are you a small business leader looking for financing? Money on a Mission Expo connects small business owners and social entrepreneurs with local lenders and resources to help you build your dreams and our local\, just\, sustainable economy. NETWORK | CONNECT | LEARN The free one-day event will feature networking\, workshops and exhibitors\, including lenders and organizations that want to help your business grow. LOCATION Pacific Tower\, 1200 12th Avenue S\, Seattle\, WA 98144 SCHEDULE 1 PM | Registration opens 2 PM | Workshop: Accessing Capital to Fuel Your Growth 3 PM | Keynote Remarks by Kat Taylor\, Co-CEO and Co-Founder\, Beneficial State Bank 4 PM | Event concludes CONFIRMED EXHIBITORS B Labs Beneficial State Bank Business Impact NW Center for Inclusive Entrepreneurship City of Seattle Office of Economic Development Craft3 Evergreen Business Capital EXIM Bank Greater Seattle SCORE Impact Capital Rainier Valley Development Fund Small Business Administration Ventures Register here: https://impactflow.com/event/money-on-a-mission-expo-1376 Questions? Email Anne at ademelle@beneficialstate.org.
LOCATION:Pacific Tower\, 1200 12th Avenue S\, Seattle\, WA 98144
UID:e.2591.596
SEQUENCE:3
DTSTAMP:20260426T041249Z
URL:http://seattlesouthsidechamber.com/events/details/money-on-a-mission-expo-596
END:VEVENT

END:VCALENDAR
