BEGIN:VCALENDAR
VERSION:2.0
PRODID:-//ChamberMaster//Event Calendar 2.0//EN
METHOD:PUBLISH
X-PUBLISHED-TTL:P3D
REFRESH-INTERVAL:P3D
CALSCALE:GREGORIAN
BEGIN:VEVENT
DTSTART:20181003T010000Z
DTEND:20181003T040000Z
X-MICROSOFT-CDO-ALLDAYEVENT:FALSE
SUMMARY:Micro Business Online Marketing Series the Right Decision for your Business
DESCRIPTION:If you're not promoting your business online\, you're leaving money on the table along with the chance to get your business in front fo many more potential customers than this time last year.\n\nPromoting you business online is hard for many small business owners. It doesn't have to be that way. Take advantage fo the Micro Business Online Marketing Master Classes offered FREE at StartZone and learn valuable strategies that can help grow your business this year!!\n\nSeries of 4 classes\, register now! Class limit 20 students.
X-ALT-DESC;FMTTYPE=text/html:If you&#39\;re not promoting your business online\, you&#39\;re leaving money on the table along with the chance to get your business in front fo many more potential customers than this time last year.<br />\nPromoting you business online is hard for many small business owners. It doesn&#39\;t have to be that way. Take advantage fo the Micro Business Online Marketing Master Classes offered FREE at StartZone and learn valuable strategies that can help grow your business this year!!<br />\nSeries of 4 classes\, register now! Class limit 20 students.
LOCATION:Highline College StartZone and SBDC 2400 S 240th St.\, Des Moines\, WA 98198
UID:e.2591.2557
SEQUENCE:3
DTSTAMP:20260424T185858Z
URL:http://seattlesouthsidechamber.com/events/details/micro-business-online-marketing-series-the-right-decision-for-your-business-2557
END:VEVENT

END:VCALENDAR
