BEGIN:VCALENDAR
VERSION:2.0
PRODID:-//ChamberMaster//Event Calendar 2.0//EN
METHOD:PUBLISH
X-PUBLISHED-TTL:P3D
REFRESH-INTERVAL:P3D
CALSCALE:GREGORIAN
BEGIN:VEVENT
DTSTART:20181130T200000Z
DTEND:20181130T220000Z
X-MICROSOFT-CDO-ALLDAYEVENT:FALSE
SUMMARY:Mexican Fiesta at Shag Tukwila
DESCRIPTION:Bring a friend\, take a tour and join us for a little taste of Mexico.
X-ALT-DESC;FMTTYPE=text/html:Bring a friend\, take a tour and join us for a little taste of Mexico.
LOCATION:Shag Tukwila 4051 S 144th St Tukwila\, WA 98168
UID:e.2591.2637
SEQUENCE:3
DTSTAMP:20260424T173445Z
URL:http://seattlesouthsidechamber.com/events/details/mexican-fiesta-at-shag-tukwila-2637
END:VEVENT

END:VCALENDAR
