BEGIN:VCALENDAR
VERSION:2.0
PRODID:-//ChamberMaster//Event Calendar 2.0//EN
METHOD:PUBLISH
X-PUBLISHED-TTL:P3D
REFRESH-INTERVAL:P3D
CALSCALE:GREGORIAN
BEGIN:VEVENT
DTSTART:20180926T003000Z
DTEND:20180926T020000Z
X-MICROSOFT-CDO-ALLDAYEVENT:FALSE
SUMMARY:Mary’s Place Burien is holding Grand Opening Open House Celebration
DESCRIPTION:Celebrate the grand opening of our new permanent home!!!\n\n\n\nThe community is invited to join a BBQ Open House Celebration on Tuesday\, Sept. 25 from 5:30   7 p.m. at the new Mary's Place Family Center.\n\nFood and drink will be served.\n\nIf you'd like to help\, the new location needs bath towels and twin sheet sets and blankets. Please go to link below to find out more.
X-ALT-DESC;FMTTYPE=text/html:<p>Celebrate the grand opening of our new permanent home!!!<br />\n<br />\nThe community is invited to join a BBQ Open House Celebration on Tuesday\, Sept. 25 from 5:30 &ndash\; 7 p.m. at the new Mary&rsquo\;s Place Family Center.</p>\n\n<p>Food and drink will be served.</p>\n\n<p>If you&rsquo\;d like to help\, the new location needs bath towels and twin sheet sets and blankets. Please go to link below to find out more.</p>\n
LOCATION:Mary's Place Family Center 12845 Ambaum Blvd SW Burien\, WA\, 98146
UID:e.2591.2516
SEQUENCE:3
DTSTAMP:20260424T221638Z
URL:http://seattlesouthsidechamber.com/events/details/mary-s-place-burien-is-holding-grand-opening-open-house-celebration-2516
END:VEVENT

END:VCALENDAR
