BEGIN:VCALENDAR
VERSION:2.0
PRODID:-//ChamberMaster//Event Calendar 2.0//EN
METHOD:PUBLISH
X-PUBLISHED-TTL:P3D
REFRESH-INTERVAL:P3D
CALSCALE:GREGORIAN
BEGIN:VEVENT
DTSTART:20190121T163000Z
DTEND:20190121T193000Z
X-MICROSOFT-CDO-ALLDAYEVENT:FALSE
SUMMARY:Martin Luther King Opportunity Fair
DESCRIPTION:4th Annual MLK Opportunity Fair\n\n*Hundreds of livable wage jobs / employment opportunities\n\n*Explore career opportunities\n\n*Network with inclusive organizations\n\n*Gain insight about the application process\n\n*Free Professional Resume Support\, Interviewing and Navigating Job Fair Tips\n\nWho is accepting applications that day?\n\n~Amazon\n\n-NIKE\n\n~Airport Jobs\n\n~McGee Air Services\n\n~Trident Seafoods\n\n~TSA (Transportation Security Administration   United States)\n\n~United States Postal Service (USPS)\n\n~Horizon Air\n\n~Uwajimaya\n\n~FedEx Express\n\n~ANEW (Apprenticeship & Non-Traditional Employment for Women)\n\n~CITC:  Building Trades Apprenticeship Program\n\n~ Laborers Apprenticeship Training Program\n\n~Carpenters Apprenticeship Training Program\n\n-Hytek Finishes\n\n~Navy- Shoreside Employment \n\n~Harper Engineering Co. \n\n~Goodbye Graffiti\n\n~Year Up\n\n~Seattle Schools   Skill Center\n\n~Congressman Adam Smith's Office\n\nWSDOT (Department of Transportation - Washington State)\n\nUrban League of Metropolitan Seattle\n\n~Port of Seattle\n\n~Sound Transit\n\nCity of Seattle\n\n~University of Washington (UW) Multicultural Outreach & Recruitment\n\n~UW \n\n~Washington Conservation Corps\n\n~Seattle Teacher Residency\n\n~OMWBE (Office of Minority and Women's Business Enterprises)\n\n~WorkSource\n\n~Neighborhood House\n\n. . . and more . . .\n\n\n\nResume room will be open from 8:30 to 11:30 AM.  \n\nPlease stop by for you free session:\n\n	bring your resume for a resume review\n	receive guidance on how to build a resume\n	gain application guidance\n	Utilize career coaching.
X-ALT-DESC;FMTTYPE=text/html:4th Annual MLK Opportunity Fair<br />\n<span style="padding-top:0px\;">*Hundreds of livable wage jobs / employment opportunities</span><br />\n<span style="padding-top:0px\;">*Explore career opportunities</span><br />\n<span style="padding-top:0px\;">*Network with inclusive organizations</span><br />\n<span style="padding-top:0px\;">*Gain insight about the application process</span><br />\n<span style="padding-top:0px\;">*Free Professional Resume Support\, Interviewing and Navigating Job Fair Tips</span><br />\n<strong><em><span style="font-family:verdana\,sans-serif\;"><span style="font-size:14.0pt\;">Who is accepting applications that day?</span></span></em></strong><br />\n<span style="color:black\;"><span style="font-family:helvetica\,sans-serif\;"><span style="font-size:10.0pt\;">~Amazon</span></span></span><br />\n<span style="color:black\;"><span style="font-family:helvetica\,sans-serif\;"><span style="font-size:10.0pt\;">-NIKE</span></span></span><br />\n<span style="color:black\;"><span style="font-family:helvetica\,sans-serif\;"><span style="font-size:10.0pt\;">~Airport Jobs</span></span></span><br />\n<span style="color:black\;"><span style="font-family:helvetica\,sans-serif\;"><span style="font-size:10.0pt\;">~McGee Air Services</span></span></span><br />\n<span style="color:black\;"><span style="font-family:helvetica\,sans-serif\;"><span style="font-size:10.0pt\;">~Trident Seafoods</span></span></span><br />\n<span style="color:black\;"><span style="font-family:helvetica\,sans-serif\;"><span style="font-size:10.0pt\;">~TSA (</span></span></span><span style="color:#212121\;"><span style="font-family:helvetica\,sans-serif\;"><span style="font-size:10.0pt\;">Transportation Security Administration &ndash\; United States)</span></span></span><br />\n<span style="color:black\;"><span style="font-family:helvetica\,sans-serif\;"><span style="font-size:10.0pt\;">~United States Postal Service (USPS)</span></span></span><br />\n<span style="color:black\;"><span style="font-family:helvetica\,sans-serif\;"><span style="font-size:10.0pt\;">~Horizon Air</span></span></span><br />\n<span style="color:black\;"><span style="font-family:helvetica\,sans-serif\;"><span style="font-size:10.0pt\;">~Uwajimaya</span></span></span><br />\n<span style="color:#212121\;"><span style="font-family:helvetica\,sans-serif\;"><span style="font-size:10.0pt\;">~FedEx Express</span></span></span><br />\n<span style="color:black\;"><span style="font-family:helvetica\,sans-serif\;"><span style="font-size:10.0pt\;">~ANEW (Apprenticeship &amp\; Non-Traditional Employment for Women)</span></span></span><br />\n<span style="color:black\;"><span style="font-family:helvetica\,sans-serif\;"><span style="font-size:10.0pt\;">~CITC</span></span></span><span style="font-family:helvetica\,sans-serif\;"><span style="font-size:10.0pt\;">: &nbsp\;Building Trades Apprenticeship Program</span></span><br />\n<span style="color:black\;"><span style="font-family:helvetica\,sans-serif\;"><span style="font-size:10.0pt\;">~ Laborers </span></span></span><span style="font-family:helvetica\,sans-serif\;"><span style="font-size:10.0pt\;">Apprenticeship Training Program</span></span><br />\n<span style="color:#212121\;"><span style="font-family:helvetica\,sans-serif\;"><span style="font-size:10.0pt\;">~</span></span></span><span style="font-family:helvetica\,sans-serif\;"><span style="font-size:10.0pt\;">Carpenters Apprenticeship Training Program</span></span><br />\n<span style="font-family:helvetica\,sans-serif\;"><span style="font-size:10.0pt\;">-<span style="color:#212121\;">Hytek Finishes</span></span></span><br />\n<span style="color:#212121\;"><span style="font-family:helvetica\,sans-serif\;"><span style="font-size:10.0pt\;">~</span></span></span><span style="background:white\;"><span style="color:black\;"><span style="font-family:helvetica\,sans-serif\;"><span style="font-size:10.0pt\;">Navy- Shoreside Employment</span></span></span></span>&nbsp\;<br />\n<span style="background:white\;"><span style="color:black\;"><span style="font-family:helvetica\,sans-serif\;"><span style="font-size:10.0pt\;">~Harper Engineering Co.</span></span></span></span>&nbsp\;<br />\n<span style="background:white\;"><span style="color:black\;"><span style="font-family:helvetica\,sans-serif\;"><span style="font-size:10.0pt\;">~Goodbye Graffiti</span></span></span></span><br />\n<span style="color:black\;"><span style="font-family:helvetica\,sans-serif\;"><span style="font-size:10.0pt\;">~Year Up</span></span></span><br />\n<span style="color:black\;"><span style="font-family:helvetica\,sans-serif\;"><span style="font-size:10.0pt\;">~Seattle Schools &ndash\; Skill Center</span></span></span><br />\n<span style="color:black\;"><span style="font-family:helvetica\,sans-serif\;"><span style="font-size:10.0pt\;">~Congressman Adam Smith&#39\;s Office</span></span></span><br />\n<span style="color:black\;"><span style="font-family:helvetica\,sans-serif\;"><span style="font-size:10.0pt\;">WSDOT (Department of Transportation - Washington State)</span></span></span><br />\n<span style="color:black\;"><span style="font-size:12.0pt\;">Urban League of Metropolitan Seattle</span></span><br />\n<span style="color:black\;"><span style="font-family:helvetica\,sans-serif\;"><span style="font-size:10.0pt\;">~Port of Seattle</span></span></span><br />\n<span style="color:black\;"><span style="font-family:helvetica\,sans-serif\;"><span style="font-size:10.0pt\;">~Sound Transit</span></span></span><br />\n<span style="color:black\;"><span style="font-size:12.0pt\;">City of Seattle</span></span><br />\n<span style="color:black\;"><span style="font-family:helvetica\,sans-serif\;"><span style="font-size:10.0pt\;">~University of Washington (UW) Multicultural Outreach &amp\; Recruitment</span></span></span><br />\n<span style="color:black\;"><span style="font-family:helvetica\,sans-serif\;"><span style="font-size:10.0pt\;">~<span style="background:white\;">UW </span></span></span></span><br />\n<span style="color:black\;"><span style="font-family:helvetica\,sans-serif\;"><span style="font-size:10.0pt\;">~Washington Conservation Corps</span></span></span><br />\n<span style="color:black\;"><span style="font-family:helvetica\,sans-serif\;"><span style="font-size:10.0pt\;">~Seattle Teacher Residency</span></span></span><br />\n<span style="color:black\;"><span style="font-family:helvetica\,sans-serif\;"><span style="font-size:10.0pt\;">~<span style="background:white\;">OMWBE</span> (<em><span style="font-style:normal\;"><span style="font-family:helvetica\,sans-serif\;">Office of Minority and Women&#39\;s Business Enterprises)</span></span></em></span></span></span><br />\n<span style="color:black\;"><span style="font-family:helvetica\,sans-serif\;"><span style="font-size:10.0pt\;">~WorkSource</span></span></span><br />\n<span style="color:black\;"><span style="font-family:helvetica\,sans-serif\;"><span style="font-size:10.0pt\;">~Neighborhood House</span></span></span><br />\n. . . and more . . .<br />\n<br />\n<span style="font-family:arial\,sans-serif\;">Resume room will be open from 8:30 to 11:30 AM.&nbsp\; </span><br />\n<span style="font-family:arial\,sans-serif\;">Please stop by for you free session:</span>\n<ul>\n	<li><span style="font-family:arial\,sans-serif\;">bring your resume for a resume review</span></li>\n	<li><span style="font-family:arial\,sans-serif\;">receive guidance on how to build a resume</span></li>\n	<li><span style="font-family:arial\,sans-serif\;">gain application guidance</span></li>\n	<li><span style="font-family:arial\,sans-serif\;">Utilize career coaching.&nbsp\; </span></li>\n</ul>\n
LOCATION:Garfield High School 400 23rd Ave\, Seattle\, WA 98122
UID:e.2591.2755
SEQUENCE:3
DTSTAMP:20260424T140609Z
URL:http://seattlesouthsidechamber.com/events/details/martin-luther-king-opportunity-fair-2755
END:VEVENT

END:VCALENDAR
