BEGIN:VCALENDAR
VERSION:2.0
PRODID:-//ChamberMaster//Event Calendar 2.0//EN
METHOD:PUBLISH
X-PUBLISHED-TTL:P3D
REFRESH-INTERVAL:P3D
CALSCALE:GREGORIAN
BEGIN:VEVENT
DTSTART:20181031T230000Z
DTEND:20181101T010000Z
X-MICROSOFT-CDO-ALLDAYEVENT:FALSE
SUMMARY:Mall-wide Trick or Treating at Westfield Southcenter
DESCRIPTION:Calling all ghosts and goblins....Join us for mall wide Trick or Treating October 31st from 4-6pm. Participating retailers will hand out candy and treats to children from while supplies last.Festivities are meant for children 12 years of age and under who are accompanied by an adult. Please\, no face masks. Hope to see you at this spook-tac-ular event!
X-ALT-DESC;FMTTYPE=text/html:<span style="color: rgb(34\, 34\, 34)\; font-family: &quot\;Open Sans&quot\;\, sans-serif\; font-size: 16px\;">Calling all ghosts and goblins....Join us for mall wide Trick or Treating October 31st from 4-6pm. Participating retailers will hand out candy and treats to children from while supplies last.Festivities are meant for children 12 years of age and under who are accompanied by an adult. Please\, no face masks. Hope to see you at this spook-tac-ular event!</span>
LOCATION:Westfield Southcenter 2800 Southcenter Mall Seattle\, WA 98188
UID:e.2591.2598
SEQUENCE:3
DTSTAMP:20260424T185543Z
URL:http://seattlesouthsidechamber.com/events/details/mall-wide-trick-or-treating-at-westfield-southcenter-2598
END:VEVENT

END:VCALENDAR
