BEGIN:VCALENDAR
VERSION:2.0
PRODID:-//ChamberMaster//Event Calendar 2.0//EN
METHOD:PUBLISH
X-PUBLISHED-TTL:P3D
REFRESH-INTERVAL:P3D
CALSCALE:GREGORIAN
BEGIN:VEVENT
DTSTART:20180907T010000Z
DTEND:20180907T040000Z
X-MICROSOFT-CDO-ALLDAYEVENT:FALSE
SUMMARY:Make Art Not Landfills-Recology Cleanscape Event
DESCRIPTION:2018 Artist Exhibition Opening Event\n\nCome celebrate Recology CleanScapes' 2018 Artist in Residence (AIR) program\, showcasing new work from Philippe Hyojung Kim\, Typology of Absence and Maria Phillips\, Second Nature.
X-ALT-DESC;FMTTYPE=text/html:<h4>2018 Artist Exhibition Opening Event<br />\nCome celebrate Recology CleanScapes&rsquo\; 2018 Artist in Residence (AIR) program\, showcasing new work from Philippe Hyojung Kim\,&nbsp\;Typology of Absence&nbsp\;and Maria Phillips\,&nbsp\;Second Nature.</h4>\n
LOCATION:109 S Washington Street Seattle\, Wa. 98104 (Across from Bon Voyage Vintage-Pioneer Square)
UID:e.2591.2356
SEQUENCE:3
DTSTAMP:20260424T203757Z
URL:http://seattlesouthsidechamber.com/events/details/make-art-not-landfills-recology-cleanscape-event-2356
END:VEVENT

END:VCALENDAR
