BEGIN:VCALENDAR
VERSION:2.0
PRODID:-//ChamberMaster//Event Calendar 2.0//EN
METHOD:PUBLISH
X-PUBLISHED-TTL:P3D
REFRESH-INTERVAL:P3D
CALSCALE:GREGORIAN
BEGIN:VEVENT
DTSTART;VALUE=DATE:20190226
DTEND;VALUE=DATE:20190228
TRANSP:TRANSPARENT
X-MICROSOFT-CDO-ALLDAYEVENT:TRUE
SUMMARY:Macy's Clearance Event\, Treasure Hunt\, and Diamond Give-Away! Westfield Southcenter
DESCRIPTION:Come to the fine jewelry department 2/26-2/27 for our clearance event\, offering 70% off already marked down prices and you could win a pair of diamond stud earrings valued at $600!  Enter to win by playing a short and fun treasure hunt with any fine jewelry consultant.  The prize is 3/8 carat total weight diamond studs set in 14K white or yellow gold.  In addition to our clearance being 70% off these two days\, we will also offer precious metals\, men's jewelry\, and pearl jewelry at 70% off with additional styles of diamond jewelry at 70% off.
X-ALT-DESC;FMTTYPE=text/html:<span style="color:rgb(51\, 51\, 51)\; font-family:arial\,sans-serif\; font-size:10pt">Come to the fine jewelry department 2/26-2/27 for our clearance event\, offering 70% off already marked down prices and you could win a pair of diamond stud earrings valued at $600!&nbsp\; Enter to win by playing a short and fun treasure hunt with any fine jewelry consultant.&nbsp\; The prize is 3/8 carat total weight diamond studs set in 14K white or yellow gold.&nbsp\; In addition to our clearance being 70% off these two days\, we will also offer precious metals\, men&#39\;s jewelry\, and pearl jewelry at 70% off with additional styles of diamond jewelry at 70% off.&nbsp\;</span>
LOCATION:Macy's Westfield Southcenter 500 South Center Mall Tukwila\, WA 98188
UID:e.2591.2843
SEQUENCE:3
DTSTAMP:20260424T123856Z
URL:http://seattlesouthsidechamber.com/events/details/macy-s-clearance-event-treasure-hunt-and-diamond-give-away-westfield-southcenter-2843
END:VEVENT

END:VCALENDAR
