BEGIN:VCALENDAR
VERSION:2.0
PRODID:-//ChamberMaster//Event Calendar 2.0//EN
METHOD:PUBLISH
X-PUBLISHED-TTL:P3D
REFRESH-INTERVAL:P3D
CALSCALE:GREGORIAN
BEGIN:VEVENT
DTSTART:20190322T190000Z
DTEND:20190322T200000Z
X-MICROSOFT-CDO-ALLDAYEVENT:FALSE
SUMMARY:Lunch & Learn: Women in Business
DESCRIPTION:All are welcome to come to this Lunch & Learn for a panel discussion of the Future of Women in Business. Brown Bag your lunch and join us at Homewood Suites.\n\n\n\nThe Panel will feature:\n\nAyana Brown\, ServPro of Renton \n\nDarcel Lobo\, DAL Law Firm \n\nBetsy McFeely\, Seattle Goodwill Industries \n\nKerry Wallingford\, Wallingford Financial
X-ALT-DESC;FMTTYPE=text/html:<span style="color:#003C71\;"><span style="font-family:arial\,sans-serif\;"><span style="font-size:12.0pt\;">All are welcome&nbsp\;to come to this Lunch &amp\; Learn for a panel discussion of the Future of Women in Business. Brown Bag your lunch and join us at Homewood Suites.</span></span></span><br />\n<br />\n<span style="color:#003C71\;"><span style="font-family:arial\,sans-serif\;"><span style="font-size:12.0pt\;">The Panel will feature:</span></span></span><br />\n<strong><span style="color:#003C71\;"><span style="font-family:arial\,sans-serif\;"><span style="font-size:12.0pt\;">Ayana Brown</span></span></span></strong><span style="color:#003C71\;"><span style="font-family:arial\,sans-serif\;"><span style="font-size:12.0pt\;">\, ServPro of Renton </span></span></span><br />\n<strong><span style="color:#003C71\;"><span style="font-family:arial\,sans-serif\;"><span style="font-size:12.0pt\;">Darcel Lobo</span></span></span></strong><span style="color:#003C71\;"><span style="font-family:arial\,sans-serif\;"><span style="font-size:12.0pt\;">\, DAL Law Firm </span></span></span><br />\n<strong><span style="color:#003C71\;"><span style="font-family:arial\,sans-serif\;"><span style="font-size:12.0pt\;">Betsy McFeely\,</span></span></span></strong><span style="color:#003C71\;"><span style="font-family:arial\,sans-serif\;"><span style="font-size:12.0pt\;"> Seattle Goodwill Industries </span></span></span><br />\n<strong><span style="color:#003C71\;"><span style="font-family:arial\,sans-serif\;"><span style="font-size:12.0pt\;">Kerry Wallingford\, </span></span></span></strong><span style="color:#003C71\;"><span style="font-family:arial\,sans-serif\;"><span style="font-size:12.0pt\;">Wallingford Financial </span></span></span><br />\n&nbsp\;
LOCATION:Homewood Suites 6955 Ft. Dent Way Tukwila\, WA 98188
UID:e.2591.2844
SEQUENCE:3
DTSTAMP:20260424T080544Z
URL:http://seattlesouthsidechamber.com/events/details/lunch-learn-women-in-business-2844
END:VEVENT

END:VCALENDAR
