BEGIN:VCALENDAR
VERSION:2.0
PRODID:-//ChamberMaster//Event Calendar 2.0//EN
METHOD:PUBLISH
X-PUBLISHED-TTL:P3D
REFRESH-INTERVAL:P3D
CALSCALE:GREGORIAN
BEGIN:VEVENT
DTSTART:20170908T190000Z
DTEND:20170908T200000Z
X-MICROSOFT-CDO-ALLDAYEVENT:FALSE
SUMMARY:Lunch & Learn: Supercharge your Business with Affordable Technology
DESCRIPTION:Brown Bag your lunch and join IT Management professional Darrel Spayth as he leads an informative session on how to super charge your business with affordable technology. The session will be conducted in a workshop format blending presentation with interactive participant conversations about their business challenges and discussions around suitable solutions.\n\n\n\nVisit Spaythmanagement.com for more information on what Darrel and Spayth Management does.
X-ALT-DESC;FMTTYPE=text/html:<span style="font-size:16px\;"><span style="font-family:times new roman\;"><span style="color: rgb(68\, 68\, 68)\;">Brown Bag your lunch and join&nbsp\;</span>IT Management professional Darrel Spayth as he leads an informative session on how to super charge your business with affordable technology. The session will be conducted in a workshop format blending presentation with interactive participant conversations about their business challenges and discussions around suitable solutions.<br />\n<br />\nVisit <a href="http://www.spaythmanagement.com/">Spaythmanagement</a>.com for more information on what Darrel and Spayth&nbsp\;Management does.</span></span>\n<p class="gmail-m1937724704462463869gmail-p1"><o:p></o:p></p>\n
LOCATION:Chamber Office 14220 Interurban AVE S #134 Tukwila\, WA 98168
UID:e.2591.858
SEQUENCE:3
DTSTAMP:20260425T135255Z
URL:http://seattlesouthsidechamber.com/events/details/lunch-learn-supercharge-your-business-with-affordable-technology-858
END:VEVENT

END:VCALENDAR
