BEGIN:VCALENDAR
VERSION:2.0
PRODID:-//ChamberMaster//Event Calendar 2.0//EN
METHOD:PUBLISH
X-PUBLISHED-TTL:P3D
REFRESH-INTERVAL:P3D
CALSCALE:GREGORIAN
BEGIN:VEVENT
DTSTART:20180713T190000Z
DTEND:20180713T200000Z
X-MICROSOFT-CDO-ALLDAYEVENT:FALSE
SUMMARY:Lunch & Learn: More than Just Social Media
DESCRIPTION:Brown Bag your lunch and join us for this Lunch & Learn from South King Media.\n\n\n\nAre all your marketing eggs in one "Social Media basket?" Long before the advent of these powerful new media\, successful businesses were reaching customers in diverse and targeted methods which are still relevant and effective.\n\n \n\nDrawing on 20+ years as a  Sales\, Marketing and Retail executive\, Theresa Schaefer of South King Media presents a fun and informative presentation.  You will explore keys to developing a multi-faceted plan to deliver your message in an effective and comprehensive way tailored for your audience.
X-ALT-DESC;FMTTYPE=text/html:<span style="font-size:14px\;"><span style="font-family:arial\;"><span style="color: rgb(68\, 68\, 68)\;">Brown Bag your lunch and join us for this Lunch &amp\; Learn from South King Media.</span><br />\n<br />\nAre all your marketing eggs in one &ldquo\;Social Media basket?&rdquo\; Long before the advent of these powerful new media\, successful businesses were reaching customers in diverse and targeted methods which are still relevant and effective.<br />\n&nbsp\;<br />\nDrawing on 20+ years as a &nbsp\;Sales\, Marketing and Retail executive\, Theresa Schaefer of South King Media presents a fun and informative presentation. &nbsp\;You will explore keys to developing a multi-faceted plan to deliver your message in an effective and comprehensive way tailored for your audience.</span></span>
LOCATION:Chamber Office 14220 Interurban AVE S #134 Tukwila\, WA 98168
UID:e.2591.1036
SEQUENCE:3
DTSTAMP:20260424T220524Z
URL:http://seattlesouthsidechamber.com/events/details/lunch-learn-more-than-just-social-media-1036
END:VEVENT

END:VCALENDAR
