BEGIN:VCALENDAR
VERSION:2.0
PRODID:-//ChamberMaster//Event Calendar 2.0//EN
METHOD:PUBLISH
X-PUBLISHED-TTL:P3D
REFRESH-INTERVAL:P3D
CALSCALE:GREGORIAN
BEGIN:VEVENT
DTSTART:20180914T190000Z
DTEND:20180914T200000Z
X-MICROSOFT-CDO-ALLDAYEVENT:FALSE
SUMMARY:Lunch & Learn: Legal Shield on Identity Theft
DESCRIPTION:Join us for this Lunch & Learn to hear from Ranthone Carter of Legal Shield\, who will also be providing lunch. Identity theft has been the number one criminal  complaint 17 years straight according to the FTC. Legal Shield will share how they've been protecting our members health\, wealth\, and peace of mind. Legal Shield\, Worry Less\, Live More.
X-ALT-DESC;FMTTYPE=text/html:Join us for this Lunch &amp\; Learn to hear from Ranthone Carter of Legal Shield\, who will also be providing lunch.&nbsp\;Identity theft has been the number one criminal&nbsp\; complaint 17 years straight according to the FTC. Legal Shield will share how they&#39\;ve been protecting our members health\, wealth\, and peace of mind. Legal Shield\, Worry Less\, Live More.
LOCATION:Chamber Office
UID:e.2591.2331
SEQUENCE:3
DTSTAMP:20260424T172117Z
URL:http://seattlesouthsidechamber.com/events/details/lunch-learn-legal-shield-on-identity-theft-2331
END:VEVENT

END:VCALENDAR
