BEGIN:VCALENDAR
VERSION:2.0
PRODID:-//ChamberMaster//Event Calendar 2.0//EN
METHOD:PUBLISH
X-PUBLISHED-TTL:P3D
REFRESH-INTERVAL:P3D
CALSCALE:GREGORIAN
BEGIN:VEVENT
DTSTART:20171110T200000Z
DTEND:20171110T210000Z
X-MICROSOFT-CDO-ALLDAYEVENT:FALSE
SUMMARY:Lunch & Learn: De-escalation in the Office by DAWN
DESCRIPTION:Join us for a Chamber Lunch & Learn presented by Domestic Abuse Women's Network (DAWN) on de-escalation in the workplace.
X-ALT-DESC;FMTTYPE=text/html:Join us for a Chamber Lunch &amp\; Learn presented by Domestic Abuse Women&#39\;s Network (DAWN) on de-escalation in the workplace.
LOCATION:Chamber Office 14220 Interurban AVE S #134 Tukwila\, WA 98168
UID:e.2591.786
SEQUENCE:3
DTSTAMP:20260425T104754Z
URL:http://seattlesouthsidechamber.com/events/details/lunch-learn-de-escalation-in-the-office-by-dawn-786
END:VEVENT

END:VCALENDAR
