BEGIN:VCALENDAR
VERSION:2.0
PRODID:-//ChamberMaster//Event Calendar 2.0//EN
METHOD:PUBLISH
X-PUBLISHED-TTL:P3D
REFRESH-INTERVAL:P3D
CALSCALE:GREGORIAN
BEGIN:VEVENT
DTSTART:20190209T200000Z
DTEND:20190209T220000Z
X-MICROSOFT-CDO-ALLDAYEVENT:FALSE
SUMMARY:Lunar New Year Community Celebration at Westfield Southcenter
DESCRIPTION:Join us for our annual Lunar New Year Celebration in Macy's Court. There will be fun for the whole family with a live band\, lion dance\, kung fu demonstration and much more!
X-ALT-DESC;FMTTYPE=text/html:<p font-size:="" open="">Join us for our annual Lunar New Year Celebration&nbsp\;in Macy&#39\;s Court. There will be fun for the whole family with a live band\, lion dance\, kung fu demonstration and much more!</p>\n
LOCATION:Westfield Southcenter 2800 Southcenter Mall Seattle\, WA 98188
UID:e.2591.2822
SEQUENCE:3
DTSTAMP:20260424T141134Z
URL:http://seattlesouthsidechamber.com/events/details/lunar-new-year-community-celebration-at-westfield-southcenter-2822
END:VEVENT

END:VCALENDAR
