BEGIN:VCALENDAR
VERSION:2.0
PRODID:-//ChamberMaster//Event Calendar 2.0//EN
METHOD:PUBLISH
X-PUBLISHED-TTL:P3D
REFRESH-INTERVAL:P3D
CALSCALE:GREGORIAN
BEGIN:VEVENT
DTSTART:20190309T190000Z
DTEND:20190309T213000Z
X-MICROSOFT-CDO-ALLDAYEVENT:FALSE
SUMMARY:Live Dive at the MaST Center
DESCRIPTION:The MaST Center is the proud host of expert diver\, and former US Coast Guard Marine Science Technician\, Randy Williams. On the second Saturday of each month\, Randy takes the public on a journey of the Puget Sound\, underwater!\n\nThis is a wonderful opportunity for people of all ages to see what lies beneath the surface by becoming a virtual SCUBA diver for a day. Equipped with a full face mask for two way communication\, and an HD camera that live streams into the aquarium\; we are able to see and hear everything as Randy dives into our backyard.  Unlike in large indoor aquariums\, we never know what we will find\; an octopus\, crabs\, seastars\, fish ? Maybe we will get lucky and see a shark or sea lion!  Come take an adventure with Randy and see what you find.\n\n\n\nMaST hours are available on their website.
X-ALT-DESC;FMTTYPE=text/html:<p font-size:="" open="" style="box-sizing: border-box\; margin: 0px 0px 20px\; color: rgb(68\, 68\, 68)\; font-family: ">The MaST Center is the proud host of expert diver\, and former US Coast Guard Marine Science Technician\, Randy Williams. On the second Saturday of each month\, Randy takes the public on a journey of the Puget Sound\, underwater!</p>\n\n<p font-size:="" open="" style="box-sizing: border-box\; margin: 0px 0px 20px\; color: rgb(68\, 68\, 68)\; font-family: ">This is a wonderful opportunity for people of all ages to see what lies beneath the surface by becoming a virtual SCUBA diver for a day. Equipped with a full face mask for two way communication\, and an HD camera that live streams into the aquarium\; we are able to see and hear everything as Randy dives into our backyard.&nbsp\; Unlike in large indoor aquariums\, we never know what we will find\; an octopus\, crabs\, seastars\, fish&hellip\;? Maybe we will get lucky and see a shark or sea lion!&nbsp\; Come take an adventure with Randy and see what you find.<br />\n<br />\nMaST hours are available on their website.</p>\n
LOCATION:Highline College Marine Science and Technology Center (MaST) 28203 Redondo Beach Dr. S. Des Moines\, WA 98198
UID:e.2591.2365
SEQUENCE:3
DTSTAMP:20260424T122851Z
URL:http://seattlesouthsidechamber.com/events/details/live-dive-at-the-mast-center-03-09-2019-2365
END:VEVENT

END:VCALENDAR
