BEGIN:VCALENDAR
VERSION:2.0
PRODID:-//ChamberMaster//Event Calendar 2.0//EN
METHOD:PUBLISH
X-PUBLISHED-TTL:P3D
REFRESH-INTERVAL:P3D
CALSCALE:GREGORIAN
BEGIN:VEVENT
DTSTART:20200227T203000Z
DTEND:20200228T000000Z
X-MICROSOFT-CDO-ALLDAYEVENT:FALSE
SUMMARY:LARC at Burien Grand Opening
DESCRIPTION:Join us for a Grand Opening Celebration of LARC at Burien\, the newest Active 55+ community in Burien. Blitz from the Seahawks will be taking photos and giving autographs!\n\n\n\nLunch will be provided by food truck "The People's Burgers"
X-ALT-DESC;FMTTYPE=text/html:Join us for a Grand Opening Celebration of LARC at Burien\, the newest Active 55+ community in Burien. Blitz from the Seahawks will be taking photos and giving autographs!<br />\n<br />\nLunch will be provided by food truck &quot\;The People&#39\;s Burgers&quot\;
LOCATION:LARC at Burien 11670 Des Moines Memorial Dr S Burien\, WA 98168
UID:e.2591.3743
SEQUENCE:3
DTSTAMP:20260423T152224Z
URL:http://seattlesouthsidechamber.com/events/details/larc-at-burien-grand-opening-3743
END:VEVENT

END:VCALENDAR
