BEGIN:VCALENDAR
VERSION:2.0
PRODID:-//ChamberMaster//Event Calendar 2.0//EN
METHOD:PUBLISH
X-PUBLISHED-TTL:P3D
REFRESH-INTERVAL:P3D
CALSCALE:GREGORIAN
BEGIN:VEVENT
DTSTART:20181205T160000Z
DTEND:20181206T020000Z
X-MICROSOFT-CDO-ALLDAYEVENT:FALSE
SUMMARY:Korite Ammolite Fine Jewelry Designer Event
DESCRIPTION:Free gift with Purchase of $500 or more for the first 50 customers\, a free beautiful Korite Ammolite pendant.\n\n\n\nCome discover one of the rarest and most recently discovered gemstones on earth!  A beautiful multi-colored stone with up to 7 distinct colors.  This unique rare gem is making it's debut in the United States in partnership with Southcenter Macy's on December 5th\, 2018!\n\n\n\nThis is a wonderful opportunity to find a special fine jewelry piece that's beautiful\, unique and rare!  Each piece is a one of a kind.  Prices start around $300.\n\n\n\nCall or come in ahead of time to make a reservation and receive an additional 25% off your purchase.  (425) 656-6000 x 6260 or 2560 or email jeremy @ jeremy.hicks@macys.com
X-ALT-DESC;FMTTYPE=text/html:<span style="font-size:medium"><span style="font-family:calibri"><strong>Free gift </strong>with Purchase of $500 or more for the first 50 customers\, a free beautiful Korite Ammolite pendant.<br />\n<br />\nCome&nbsp\;discover one of the rarest and most recently discovered gemstones on earth!&nbsp\; A beautiful multi-colored stone with up to 7 distinct colors.&nbsp\; This unique rare gem is making it&rsquo\;s debut in the United States in partnership with Southcenter Macy&rsquo\;s on December 5<sup><span style="font-size:small">th</span></sup>\, 2018!</span></span><br />\n<br />\n<span style="font-size:medium"><span style="font-family:calibri">This is a wonderful&nbsp\;opportunity to find a special fine jewelry piece that&rsquo\;s beautiful\, unique and rare!&nbsp\; Each piece is a one of a kind.&nbsp\; Prices start around $300.<br />\n<br />\nCall or come in ahead of time to make a reservation and receive an <strong>additional 25% off your purchase</strong>.&nbsp\; (425) 656-6000 x 6260 or 2560 or email jeremy @ <a href="mailto:jeremy.hicks@macys.com">jeremy.hicks@macys.com</a></span></span><br />\n<br />\n<br />\n&nbsp\;
LOCATION:Macy's 500 Southcenter Mall Tukwila\, WA 98188
UID:e.2591.2636
SEQUENCE:3
DTSTAMP:20260424T155028Z
URL:http://seattlesouthsidechamber.com/events/details/korite-ammolite-fine-jewelry-designer-event-2636
END:VEVENT

END:VCALENDAR
