BEGIN:VCALENDAR
VERSION:2.0
PRODID:-//ChamberMaster//Event Calendar 2.0//EN
METHOD:PUBLISH
X-PUBLISHED-TTL:P3D
REFRESH-INTERVAL:P3D
CALSCALE:GREGORIAN
BEGIN:VEVENT
DTSTART:20170713T003000Z
DTEND:20170713T020000Z
X-MICROSOFT-CDO-ALLDAYEVENT:FALSE
SUMMARY:Kevin Jones Concert
DESCRIPTION:The City of SeaTac is partnering with Sound Transit to provide entertainment on the second Wednesday of each month at the Plaza at Angle Lake Station\, 19955 28th Avenue South\, SeaTac.\n\n\n\nWednesday\, July 12\, 5:30-7:00 PM\n\n\n\n Kevin Jones is a multi-instrumentalist\, singer/songwriter. Kevin's original lyrics are well crafted\, and his guitar playing is innovative and precise.
X-ALT-DESC;FMTTYPE=text/html:<span style="color: rgb(68\, 68\, 68)\; font-family: Arial\, Helvetica\, sans-serif\; font-size: 14px\;">The City of SeaTac is partnering with Sound Transit to provide entertainment on the second Wednesday of each month at the Plaza at Angle Lake Station\, 19955 28th Avenue South\, SeaTac.</span><br />\n<br />\nWednesday\, July 12\, 5:30-7:00 PM<br />\n<br />\n&nbsp\;Kevin Jones is a multi-instrumentalist\, singer/songwriter. Kevin&rsquo\;s original lyrics are well crafted\, and his guitar playing is innovative and precise.
LOCATION:19955 28th Avenue South\, SeaTac.
UID:e.2591.772
SEQUENCE:3
DTSTAMP:20260425T200700Z
URL:http://seattlesouthsidechamber.com/events/details/kevin-jones-concert-772
END:VEVENT

END:VCALENDAR
