BEGIN:VCALENDAR
VERSION:2.0
PRODID:-//ChamberMaster//Event Calendar 2.0//EN
METHOD:PUBLISH
X-PUBLISHED-TTL:P3D
REFRESH-INTERVAL:P3D
CALSCALE:GREGORIAN
BEGIN:VEVENT
DTSTART:20190518T000000Z
DTEND:20190518T050000Z
X-MICROSOFT-CDO-ALLDAYEVENT:FALSE
SUMMARY:Kent Chamber's President's Gala & Business Leadership Awards
DESCRIPTION:Join the Kent Chamber of Commerce for their annual President's Gala & Business Leadership Awards.
X-ALT-DESC;FMTTYPE=text/html:Join the Kent Chamber of Commerce for their annual President&#39\;s Gala &amp\; Business Leadership Awards.
LOCATION:Renton Pavilion 233 Burnett Ave S Renton\, WA 98057
UID:e.2591.2937
SEQUENCE:3
DTSTAMP:20260424T075948Z
URL:http://seattlesouthsidechamber.com/events/details/kent-chamber-s-president-s-gala-business-leadership-awards-2937
END:VEVENT

END:VCALENDAR
