BEGIN:VCALENDAR
VERSION:2.0
PRODID:-//ChamberMaster//Event Calendar 2.0//EN
METHOD:PUBLISH
X-PUBLISHED-TTL:P3D
REFRESH-INTERVAL:P3D
CALSCALE:GREGORIAN
BEGIN:VEVENT
DTSTART:20181119T190000Z
DTEND:20181119T210000Z
X-MICROSOFT-CDO-ALLDAYEVENT:FALSE
SUMMARY:Keller Williams Realty Puget Sound Gratitude Lunch
DESCRIPTION:Join us for our annual Gratitude Lunch in Burien to give thanks and celebrate with our KWPS community! We are incredibly grateful for each and every person who is a part of KWPS and look forward to sharing a meal with you!\n\nIt is a potluck style lunch. We will provide the turkey\, please bring your best side dish or dessert!
X-ALT-DESC;FMTTYPE=text/html:<p style="margin: 0px\; padding: 0px\; color: rgb(111\, 114\, 135)\; font-family: &quot\;Neue Plak&quot\;\, -apple-system\, BlinkMacSystemFont\, Roboto\, &quot\;Helvetica Neue&quot\;\, Helvetica\, Tahoma\, Arial\, sans-serif\; font-size: 15px\; letter-spacing: 0.5px\;">Join us for our annual&nbsp\;<em style="padding-top: 0px\;">Gratitude Lunch</em>&nbsp\;in Burien to give thanks and celebrate with our KWPS community! We are incredibly grateful for each and every person who is a part of KWPS and look forward to sharing a meal with you!</p>\n\n<p style="margin: 0px\; padding: 10px 0px 0px\; color: rgb(111\, 114\, 135)\; font-family: &quot\;Neue Plak&quot\;\, -apple-system\, BlinkMacSystemFont\, Roboto\, &quot\;Helvetica Neue&quot\;\, Helvetica\, Tahoma\, Arial\, sans-serif\; font-size: 15px\; letter-spacing: 0.5px\;">It is a potluck style lunch. We will provide the turkey\, please bring your best side dish or dessert!</p>\n
LOCATION:Keller Williams Puget Sound 455 SW 152nd St. Burien\, WA 98166
UID:e.2591.2611
SEQUENCE:3
DTSTAMP:20260424T173228Z
URL:http://seattlesouthsidechamber.com/events/details/keller-williams-realty-puget-sound-gratitude-lunch-2611
END:VEVENT

END:VCALENDAR
