BEGIN:VCALENDAR
VERSION:2.0
PRODID:-//ChamberMaster//Event Calendar 2.0//EN
METHOD:PUBLISH
X-PUBLISHED-TTL:P3D
REFRESH-INTERVAL:P3D
CALSCALE:GREGORIAN
BEGIN:VEVENT
DTSTART:20181122T200000Z
DTEND:20181123T040000Z
X-MICROSOFT-CDO-ALLDAYEVENT:FALSE
SUMMARY:Island Style Turkey Dinner at Bahama Breeze at Westfield Southcenter
DESCRIPTION:Celebrate Thanksgiving with good times and island vibes at Bahama Breeze while enjoying island-inspired Thanksgiving specials or your favorite dishes.
X-ALT-DESC;FMTTYPE=text/html:<span style="color: rgb(34\, 34\, 34)\; font-family: &quot\;Open Sans&quot\;\, sans-serif\; font-size: 16px\;">Celebrate Thanksgiving with good times and island vibes at Bahama Breeze while enjoying island-inspired Thanksgiving specials or your favorite dishes.</span>
LOCATION:Bahama Breeze Westfield Mall 2800 Southcenter Mall Seattle WA 98188
UID:e.2591.2624
SEQUENCE:3
DTSTAMP:20260424T191745Z
URL:http://seattlesouthsidechamber.com/events/details/island-style-turkey-dinner-at-bahama-breeze-at-westfield-southcenter-2624
END:VEVENT

END:VCALENDAR
