BEGIN:VCALENDAR
VERSION:2.0
PRODID:-//ChamberMaster//Event Calendar 2.0//EN
METHOD:PUBLISH
X-PUBLISHED-TTL:P3D
REFRESH-INTERVAL:P3D
CALSCALE:GREGORIAN
BEGIN:VEVENT
DTSTART:20180619T223000Z
DTEND:20180620T000000Z
X-MICROSOFT-CDO-ALLDAYEVENT:FALSE
SUMMARY:How will Greater Seattle be impacted by the changing U.S.- Asia business and trade relationship?
DESCRIPTION:Join us for an insiders perspective\, discussion with former U.S. Ambassador to China\, Gary Locke & Roger Nyhus\, President & CEO\, Nyhus.
X-ALT-DESC;FMTTYPE=text/html:Join us for an insiders perspective\, discussion with former U.S. Ambassador to China\, Gary Locke &amp\; Roger Nyhus\, President &amp\; CEO\, Nyhus.
LOCATION:1301 Fifth Avenue\, Suite 1500 Seattle\, WA 98101
UID:e.2591.2117
SEQUENCE:3
DTSTAMP:20260425T012727Z
URL:http://seattlesouthsidechamber.com/events/details/how-will-greater-seattle-be-impacted-by-the-changing-u-s-asia-business-and-trade-relationship-2117
END:VEVENT

END:VCALENDAR
