BEGIN:VCALENDAR
VERSION:2.0
PRODID:-//ChamberMaster//Event Calendar 2.0//EN
METHOD:PUBLISH
X-PUBLISHED-TTL:P3D
REFRESH-INTERVAL:P3D
CALSCALE:GREGORIAN
BEGIN:VEVENT
DTSTART:20190430T210000Z
DTEND:20190430T230000Z
X-MICROSOFT-CDO-ALLDAYEVENT:FALSE
SUMMARY:Hotel-Law Enforcement Meet and Greet
DESCRIPTION:The event will be held on Tuesday April 30\, 2019 from 2-4 PM. It will be held in the City Council Chambers at the SeaTac City Hall. Light refreshments will be served. During the event\, we will be discussing crime statistics and prevention personalized to the Hotel Community. We will also be answering questions and collecting contact information to better facilitate communication.
X-ALT-DESC;FMTTYPE=text/html:The event will be held on Tuesday April 30\, 2019 from 2-4 PM. It will be held in the City Council Chambers at the SeaTac City Hall. Light refreshments will be served. During the event\, we will be discussing crime statistics and prevention personalized to the Hotel Community. We will also be answering questions and collecting contact information to better facilitate communication.
LOCATION:City Council Chambers at the SeaTac City Hall 4800 S 188th St SeaTac\, WA 98188
UID:e.2591.2925
SEQUENCE:3
DTSTAMP:20260424T093624Z
URL:http://seattlesouthsidechamber.com/events/details/hotel-law-enforcement-meet-and-greet-2925
END:VEVENT

END:VCALENDAR
