BEGIN:VCALENDAR
VERSION:2.0
PRODID:-//ChamberMaster//Event Calendar 2.0//EN
METHOD:PUBLISH
X-PUBLISHED-TTL:P3D
REFRESH-INTERVAL:P3D
CALSCALE:GREGORIAN
BEGIN:VEVENT
DTSTART:20181208T033000Z
DTEND:20181208T060000Z
X-MICROSOFT-CDO-ALLDAYEVENT:FALSE
SUMMARY:Holiday of Hope at Gregory's
DESCRIPTION:Make plans to attend Holiday of Hope at Gregory's and enjoy karaoke\, a raffle and a good time. Don't forget to bring a toy to donate\, to help make some holiday magic happen for a struggling family in our area. Just bring a new\, unwrapped toy for a child valued around $25 (no stuffed animals please)\, a gift card for $25 from Ross\, Old Navy\, Kohl's\, Game Stop\, or a cash or check donation. Need some gift ideas? I do have a list of the most requested toys for 2018 and I would be happy to email or send it to you. Wrapping paper\, large gift bags\, and stick-on bows also welcome!
X-ALT-DESC;FMTTYPE=text/html:Make plans to attend Holiday of Hope at Gregory&#39\;s and enjoy karaoke\, a raffle and a good time. Don&#39\;t forget to bring a toy to donate\, to help make some holiday magic happen for a struggling family in our area.&nbsp\;Just bring a new\, unwrapped toy for a child valued around $25 (no stuffed animals please)\, a gift card for $25 from Ross\, Old Navy\, Kohl&rsquo\;s\, Game Stop\, or a cash or check donation. Need some gift ideas? I do have a list of the most requested toys for 2018 and I would be happy to email or send it to you. Wrapping paper\, large gift bags\, and stick-on bows also welcome!
LOCATION:Gregory's at the Red Lion Hotel 18220 International Blvd SeaTac\, WA
UID:e.2591.2633
SEQUENCE:3
DTSTAMP:20260424T154854Z
URL:http://seattlesouthsidechamber.com/events/details/holiday-of-hope-at-gregory-s-2633
END:VEVENT

END:VCALENDAR
