BEGIN:VCALENDAR
VERSION:2.0
PRODID:-//ChamberMaster//Event Calendar 2.0//EN
METHOD:PUBLISH
X-PUBLISHED-TTL:P3D
REFRESH-INTERVAL:P3D
CALSCALE:GREGORIAN
BEGIN:VEVENT
DTSTART:20181030T013000Z
DTEND:20181030T030000Z
X-MICROSOFT-CDO-ALLDAYEVENT:FALSE
SUMMARY:Highliner's Halloween Costume Party
DESCRIPTION:You don't want to miss this fun night! Dinner\, cake walk\, games\, and costume contest. All ages welcome (children under 13 years of age must be accompanied by an adult.) \n\nCurrent cast members: Please bring your costume with you to rehearsal. \n\nTo volunteer\, please contact us at: info@hi-liners.org
X-ALT-DESC;FMTTYPE=text/html:You don&#39\;t want to miss this fun night! Dinner\, cake walk\, games\, and costume contest.&nbsp\;All ages welcome (children under 13 years of age must be accompanied by an adult.)&nbsp\;<br />\nCurrent cast members: Please bring your costume with you to rehearsal.&nbsp\;<br />\nTo volunteer\, please contact us at: <a href="mailto:info@hi-liners.org?subject=Halloween%20Party">info@hi-liners.org</a>
LOCATION:The Burien Annex 14501 4th Ave SW Burien\, WA 98166
UID:e.2591.2600
SEQUENCE:3
DTSTAMP:20260424T185403Z
URL:http://seattlesouthsidechamber.com/events/details/highliner-s-halloween-costume-party-2600
END:VEVENT

END:VCALENDAR
