BEGIN:VCALENDAR
VERSION:2.0
PRODID:-//ChamberMaster//Event Calendar 2.0//EN
METHOD:PUBLISH
X-PUBLISHED-TTL:P3D
REFRESH-INTERVAL:P3D
CALSCALE:GREGORIAN
BEGIN:VEVENT
DTSTART:20180819T180000Z
DTEND:20180819T210000Z
X-MICROSOFT-CDO-ALLDAYEVENT:FALSE
SUMMARY:Highline SeaTac Botanical Gardens Ice Cream Social
DESCRIPTION:Enjoy a fun day in the garden at the 12th annual Ice Cream Social Sunday\, August 19th from 11am to 2pm. Cisco Morris is returning this year to share some of his gardening wisdom! There will be ice cream for the first 200 guests\, garden tours\, children's activities\, a scavenger hunt\, prizes\, and more!
X-ALT-DESC;FMTTYPE=text/html:Enjoy a fun day in the garden at the 12th annual Ice Cream Social Sunday\, August 19th from 11am to 2pm. Cisco Morris is returning this year to share some of his gardening wisdom! There will be ice cream for the first 200 guests\, garden tours\, children&#39\;s activities\, a scavenger hunt\, prizes\, and more!&nbsp\;
LOCATION:Highline SeaTac Botanical Gardens 13735 24th Ave S\, SeaTac\, WA 98168
UID:e.2591.2167
SEQUENCE:3
DTSTAMP:20260424T221322Z
URL:http://seattlesouthsidechamber.com/events/details/highline-seatac-botanical-gardens-ice-cream-social-2167
END:VEVENT

END:VCALENDAR
