BEGIN:VCALENDAR
VERSION:2.0
PRODID:-//ChamberMaster//Event Calendar 2.0//EN
METHOD:PUBLISH
X-PUBLISHED-TTL:P3D
REFRESH-INTERVAL:P3D
CALSCALE:GREGORIAN
BEGIN:VEVENT
DTSTART;VALUE=DATE:20181020
DTEND;VALUE=DATE:20181021
TRANSP:TRANSPARENT
X-MICROSOFT-CDO-ALLDAYEVENT:TRUE
SUMMARY:Highline Medical Center Foundation To Your Health! Gala
DESCRIPTION:Join us for a very special 22nd annual To Your Health! Gala as we celebrate 60 years of exceptional health care at Highline Medical Center. \n\n\n\nYour contributions at the Gala will support the Medical Innovation Fund. This year we are raising funds for another UV cleaning robot that cleans all surfaces in a patient room. As we plan for the future of health at Highline Medical Center\, the UV cleaning robot will help defend against hospital acquired illness.
X-ALT-DESC;FMTTYPE=text/html:Join us for a very special 22nd annual To Your Health! Gala as we celebrate 60 years of exceptional health care at Highline Medical Center.&nbsp\;<br />\n<br />\nYour contributions at the Gala will support the Medical Innovation Fund. This year we are raising funds for another UV cleaning robot that cleans all surfaces in a patient room. As we plan for the future of health at Highline Medical Center\, the UV cleaning robot will help defend against hospital acquired illness.&nbsp\;
LOCATION:Hilton Seattle Airport & Conference Center
UID:e.2591.2350
SEQUENCE:3
DTSTAMP:20260424T185924Z
URL:http://seattlesouthsidechamber.com/events/details/highline-medical-center-foundation-to-your-health-gala-2350
END:VEVENT

END:VCALENDAR
