BEGIN:VCALENDAR
VERSION:2.0
PRODID:-//ChamberMaster//Event Calendar 2.0//EN
METHOD:PUBLISH
X-PUBLISHED-TTL:P3D
REFRESH-INTERVAL:P3D
CALSCALE:GREGORIAN
BEGIN:VEVENT
DTSTART:20181214T030000Z
DTEND:20181214T050000Z
X-MICROSOFT-CDO-ALLDAYEVENT:FALSE
SUMMARY:Highline Mast Center Holiday Open House Redondo Beach
DESCRIPTION:'Tis the season for fun holiday activities so don't miss out on the Holiday Open House at the MaST Center! We are very happy to have the Argosy Christmas Ship Festival and their choir visit Redondo. The choir is scheduled to perform at 8:10 pm. Come enjoy our aquarium and warm up at the bonfire on the beach as we celebrate the merry holiday season!
X-ALT-DESC;FMTTYPE=text/html:<span style="color: rgb(103\, 106\, 108)\; font-family: Tahoma\, sans-serif\; font-size: 13.3333px\;">&#39\;Tis the season for fun holiday activities so don&#39\;t miss out on the Holiday Open House at the MaST Center! We are very happy to have the Argosy Christmas Ship Festival and their choir visit Redondo. The choir is scheduled to perform at 8:10 pm. Come enjoy our aquarium and warm up at the bonfire on the beach as we celebrate the merry holiday season!</span>
LOCATION:Highline Mast Aquarium 28203 Redondo Beach Dr S\, Des Moines\, Washington 98198
UID:e.2591.2652
SEQUENCE:3
DTSTAMP:20260424T155135Z
URL:http://seattlesouthsidechamber.com/events/details/highline-mast-center-holiday-open-house-redondo-beach-2652
END:VEVENT

END:VCALENDAR
