BEGIN:VCALENDAR
VERSION:2.0
PRODID:-//ChamberMaster//Event Calendar 2.0//EN
METHOD:PUBLISH
X-PUBLISHED-TTL:P3D
REFRESH-INTERVAL:P3D
CALSCALE:GREGORIAN
BEGIN:VEVENT
DTSTART:20190614T230000Z
DTEND:20190615T010000Z
X-MICROSOFT-CDO-ALLDAYEVENT:FALSE
SUMMARY:Highline Heritage Museum Grand Opening
DESCRIPTION:Come cut the ribbon with us! Literally\, please bring scissors and let's do it as a community!\n\n \nWe are the Highline Heritage Museum. Our goal is to capture and exhibit the heritage of the Highline region in order to bridge the gap between the histories of the earliest indigenous people to the contemporary immigrant stories. History and heritage can be a unique and personal matter. We believe that it enriches us as individuals when we experience the personal heritage of our community.\n \n\nOur passion is for our visitors to have access to a broad spectrum of information sources and cultural\n\nperspectives. We want our stories to spark discussions and to share differences and similarities.
X-ALT-DESC;FMTTYPE=text/html:Come cut the ribbon with us! Literally\, please bring scissors and let&rsquo\;s do it as a community!<br />\n&nbsp\;\n<div>We are the Highline Heritage Museum. Our goal is to&nbsp\;capture and exhibit the heritage of the Highline region&nbsp\;in order to bridge the gap between the histories of the&nbsp\;earliest indigenous people to the contemporary immigrant&nbsp\;stories. History and heritage can be a unique and personal&nbsp\;matter. We believe that it enriches us as individuals when&nbsp\;we experience the personal heritage of our community.</div>\n&nbsp\;\n\n<div>Our passion is for our visitors to have access to a&nbsp\;broad spectrum of information sources and cultural</div>\n\n<div>perspectives. We want our stories to spark&nbsp\;discussions and to share differences and&nbsp\;similarities.</div>\n
LOCATION:Highline Heritage Museum 819 SW 152nd St\, Burien WA
UID:e.2591.2904
SEQUENCE:3
DTSTAMP:20260424T044228Z
URL:http://seattlesouthsidechamber.com/events/details/highline-heritage-museum-grand-opening-2904
END:VEVENT

END:VCALENDAR
