BEGIN:VCALENDAR
VERSION:2.0
PRODID:-//ChamberMaster//Event Calendar 2.0//EN
METHOD:PUBLISH
X-PUBLISHED-TTL:P3D
REFRESH-INTERVAL:P3D
CALSCALE:GREGORIAN
BEGIN:VEVENT
DTSTART:20180926T213000Z
DTEND:20180926T233000Z
X-MICROSOFT-CDO-ALLDAYEVENT:FALSE
SUMMARY:Highline Forum-Normandy Park Community Club at the Cove
DESCRIPTION:At the Forum\, the members will receive updates on the Sustainable Airport Master Plan's Near-Term Projects Environmental Review and the Sea-Tac Airport Stakeholder Advisory Round Table. \n\n \n\nA WA Department of Transportation representative will also provide Forum members with the latest on both the SR 509 completion project and the SR 518 project.  Finally\, Normandy Park will provide a summary of the City's infrastructure improvements.
X-ALT-DESC;FMTTYPE=text/html:<span style="font-family:times new roman\,serif\;"><span style="font-size:12.0pt\;">At the Forum\, the members will receive updates on the Sustainable Airport Master Plan&rsquo\;s Near-Term Projects Environmental Review and the Sea-Tac Airport Stakeholder Advisory Round Table. </span></span><br />\n&nbsp\;<br />\n<span style="font-family:times new roman\,serif\;"><span style="font-size:12.0pt\;">A WA Department of Transportation representative will also provide Forum members with the latest on both the SR 509 completion project and the SR 518 project.&nbsp\; Finally\, Normandy Park will provide a summary of the City&rsquo\;s infrastructure improvements.</span></span>
LOCATION:The Normandy Park Community Club 1500 SW Shorebrook Dr Normandy Park\, WA 98166
UID:e.2591.2515
SEQUENCE:3
DTSTAMP:20260424T221548Z
URL:http://seattlesouthsidechamber.com/events/details/highline-forum-normandy-park-community-club-at-the-cove-2515
END:VEVENT

END:VCALENDAR
