BEGIN:VCALENDAR
VERSION:2.0
PRODID:-//ChamberMaster//Event Calendar 2.0//EN
METHOD:PUBLISH
X-PUBLISHED-TTL:P3D
REFRESH-INTERVAL:P3D
CALSCALE:GREGORIAN
BEGIN:VEVENT
DTSTART:20181108T180000Z
DTEND:20181108T210000Z
X-MICROSOFT-CDO-ALLDAYEVENT:FALSE
SUMMARY:Highline College Veteran's Day Presentation
DESCRIPTION:Make plans to attend Highline College's Veteran's Day Presentation. There will be opening remarks\, the presentation of colors\, and an Army Band performance. This will be followed by a Travis Manion Foundation Character Matters presentation by Emma Kirby\, the Northwest Region Manager.
X-ALT-DESC;FMTTYPE=text/html:<span style="color: rgb(0\, 60\, 113)\; font-family: Arial\, Verdana\, Helvetica\, sans-serif\; font-size: 16px\; white-space: pre-wrap\;">Make plans to attend Highline College&#39\;s Veteran&#39\;s Day Presentation. There will be opening remarks\, the presentation of colors\, and an Army Band performance. This will be followed by a Travis Manion Foundation Character Matters presentation by Emma Kirby\, the Northwest Region Manager.</span>
LOCATION:Highline College 2400 S. 240th Street Des Moines\, WA 98198 Veteran's Memorial Plaza/Bldg 7
UID:e.2591.2599
SEQUENCE:3
DTSTAMP:20260424T173100Z
URL:http://seattlesouthsidechamber.com/events/details/highline-college-veteran-s-day-presentation-2599
END:VEVENT

END:VCALENDAR
