BEGIN:VCALENDAR
VERSION:2.0
PRODID:-//ChamberMaster//Event Calendar 2.0//EN
METHOD:PUBLISH
X-PUBLISHED-TTL:P3D
REFRESH-INTERVAL:P3D
CALSCALE:GREGORIAN
BEGIN:VEVENT
DTSTART:20181011T180000Z
DTEND:20181011T200000Z
X-MICROSOFT-CDO-ALLDAYEVENT:FALSE
SUMMARY:Highline College LGBTQIA Week Resource Fair
DESCRIPTION:Highline College 2018 LGBTQIA Resource Fair\n\n\nHighline College and its community partners support the health and wellness of the LGBTQIA community.\nYou are invited to join us for our 2nd Annual LGBTQIA Resource Fair where visitors can explore campus and community resources to connect with caring and affirming resources. The resource fair is open to the public.\n\nThe resource fair will be held on Thursday\, October 11 from 11 a.m. - 1 p.m. Additional information about parking\, campus map\, loading zone\, etc. will be provided via email.\n\nSetup will begin at 10 a.m.\n\nThere is no charge to table at the resource fair\, but please register online so that we have a space ready for you. Deadline to register is September 21\, 2018
X-ALT-DESC;FMTTYPE=text/html:<div>\n<div aria-level="1" dir="auto" role="heading">Highline College 2018 LGBTQIA Resource Fair</div>\n</div>\n\n<div class="freebirdFormviewerViewHeaderDescription" dir="auto" style="background-color: transparent\; color: rgba(0\, 0\, 0\, 0.87)\; font-family: Roboto\, RobotoDraft\, Helvetica\, Arial\, sans-serif\; font-variant-numeric: normal\; font-variant-east-asian: normal\; line-height: 17.33px\; margin-top: 22px\; padding-left: 34px\; padding-right: 34px\; white-space: pre-wrap\;">Highline College and its community partners support the health and wellness of the LGBTQIA community.\n<p style="line-height: 17.33px\; margin-top: 13px\; padding-left: 0px\; padding-right: 0px\;">You are invited to join us for our 2nd Annual LGBTQIA Resource Fair where visitors can explore campus and community resources to connect with caring and affirming resources. The resource fair is open to the public.</p>\n\n<p style="line-height: 17.33px\; margin-top: 13px\; padding-left: 0px\; padding-right: 0px\;">The resource fair will be held on Thursday\, October 11 from 11 a.m. - 1 p.m. Additional information about parking\, campus map\, loading zone\, etc. will be provided via email.</p>\n\n<p style="line-height: 17.33px\; margin-top: 13px\; padding-left: 0px\; padding-right: 0px\;">Setup will begin at 10 a.m.</p>\n\n<p style="line-height: 17.33px\; margin-top: 13px\; padding-left: 0px\; padding-right: 0px\;">There is no charge to table at the resource fair\, but please register online so that we have a space ready for you. Deadline to register is September 21\, 2018</p>\n</div>\n
LOCATION:Highline College 2400 S 240th St Des Moines\, WA 98198
UID:e.2591.2485
SEQUENCE:3
DTSTAMP:20260424T185409Z
URL:http://seattlesouthsidechamber.com/events/details/highline-college-lgbtqia-week-resource-fair-2485
END:VEVENT

END:VCALENDAR
