BEGIN:VCALENDAR
VERSION:2.0
PRODID:-//ChamberMaster//Event Calendar 2.0//EN
METHOD:PUBLISH
X-PUBLISHED-TTL:P3D
REFRESH-INTERVAL:P3D
CALSCALE:GREGORIAN
BEGIN:VEVENT
DTSTART;VALUE=DATE:20190122
DTEND;VALUE=DATE:20190126
TRANSP:TRANSPARENT
X-MICROSOFT-CDO-ALLDAYEVENT:TRUE
SUMMARY:Highline College Celebrates Martin Luther King Jr.
DESCRIPTION:Marking what would have been King's 90th birthday\, the week offers a variety of lectures and discussions\, centered on the theme "Nothing to Lose: Preserving Humanity in the Face of Trauma." With the nation in a state of change and experiencing turmoil\, event organizers looked to King's legacy of looking toward hope for humanity while in the midst of trauma. See complete schedule of events at the Highline College website.
X-ALT-DESC;FMTTYPE=text/html:Marking what would have been King&rsquo\;s 90th birthday\, the week offers a variety of lectures and discussions\, centered on the theme &ldquo\;Nothing to Lose: Preserving Humanity in the Face of Trauma.&rdquo\; With the nation in a state of change and experiencing turmoil\, event organizers looked to King&rsquo\;s legacy of looking toward hope for humanity while in the midst of trauma. See complete schedule of events at the Highline College website.
LOCATION:Highline College 2400 S. 240th St.-Various buildings on campus Des Moines\, WA 98198
UID:e.2591.2757
SEQUENCE:3
DTSTAMP:20260424T141004Z
URL:http://seattlesouthsidechamber.com/events/details/highline-college-celebrates-martin-luther-king-jr-2757
END:VEVENT

END:VCALENDAR
