BEGIN:VCALENDAR
VERSION:2.0
PRODID:-//ChamberMaster//Event Calendar 2.0//EN
METHOD:PUBLISH
X-PUBLISHED-TTL:P3D
REFRESH-INTERVAL:P3D
CALSCALE:GREGORIAN
BEGIN:VEVENT
DTSTART;VALUE=DATE:20190330
DTEND;VALUE=DATE:20190331
TRANSP:TRANSPARENT
X-MICROSOFT-CDO-ALLDAYEVENT:TRUE
SUMMARY:Hi-Liners Musical Theatre Presents Magic Tree House: Pirates Past Noon KIDS
DESCRIPTION:Magic Tree House: Pirates Past Noon KIDS is an adaptation of the fourth of Mary Pope Osborne's award-winning fantasy adventure books from the Magic Tree House book series\, which has sold more than 100 million copies and is available in more than a hundred countries around the world. This time around\, Jack and Annie's tree house takes them to an exotic island with pirates\, where the two discover the power of friendship and the simple pleasures in everyday life.
X-ALT-DESC;FMTTYPE=text/html:Magic Tree House: Pirates Past Noon KIDS&nbsp\;is an adaptation of the fourth of Mary Pope Osborne&#39\;s award-winning fantasy adventure books from the Magic Tree House book series\, which has sold more than 100 million copies and is available in more than a hundred countries around the world. This time around\, Jack and Annie&#39\;s tree house takes them to an exotic island with pirates\, where the two discover the power of friendship and the simple pleasures in everyday life.
LOCATION:The Burien Annex 14501 4th Ave SW Burien\, WA 98166
UID:e.2591.2849
SEQUENCE:3
DTSTAMP:20260424T123747Z
URL:http://seattlesouthsidechamber.com/events/details/hi-liners-musical-theatre-presents-magic-tree-house-pirates-past-noon-kids-2849
END:VEVENT

END:VCALENDAR
