BEGIN:VCALENDAR
VERSION:2.0
PRODID:-//ChamberMaster//Event Calendar 2.0//EN
METHOD:PUBLISH
X-PUBLISHED-TTL:P3D
REFRESH-INTERVAL:P3D
CALSCALE:GREGORIAN
BEGIN:VEVENT
DTSTART:20190323T020000Z
DTEND:20190323T030000Z
X-MICROSOFT-CDO-ALLDAYEVENT:FALSE
SUMMARY:Hi-Liners Musical Theatre Presents Magic Tree House: Pirates Past Noon KIDS
DESCRIPTION:Magic Tree House: Pirates Past Noon KIDS is an adaptation of the fourth of Mary Pope Osborne's award-winning fantasy adventure books from the Magic Tree House book series\, which has sold more than 100 million copies and is available in more than a hundred countries around the world. This time around\, Jack and Annie's tree house takes them to an exotic island with pirates\, where the two discover the power of friendship and the simple pleasures in everyday life.\n\n \nPerformance Schedule\n\n\n	Friday\, March 22\, 7pm\n	Saturday\, March 23\, 3pm\n	Saturday\, March 23\, 5pm\n	Thursday\, March 28\, 10am*\n	Friday\, March 29\, 7pm\n	Saturday\, March 30\, 3pm\n	Saturday\, March 30\, 5pm\n\n*Student Matinee
X-ALT-DESC;FMTTYPE=text/html:Magic Tree House: Pirates Past Noon KIDS&nbsp\;is an adaptation of the fourth of Mary Pope Osborne&#39\;s award-winning fantasy adventure books from the Magic Tree House book series\, which has sold more than 100 million copies and is available in more than a hundred countries around the world. This time around\, Jack and Annie&#39\;s tree house takes them to an exotic island with pirates\, where the two discover the power of friendship and the simple pleasures in everyday life.<br />\n&nbsp\;\n<h6>Performance Schedule</h6>\n\n<ul>\n	<li>Friday\, March 22\, 7pm</li>\n	<li>Saturday\, March 23\, 3pm</li>\n	<li>Saturday\, March 23\, 5pm</li>\n	<li>Thursday\, March 28\, 10am*</li>\n	<li>Friday\, March 29\, 7pm</li>\n	<li>Saturday\, March 30\, 3pm</li>\n	<li>Saturday\, March 30\, 5pm</li>\n</ul>\n*Student Matinee
LOCATION:The Burien Annex 14501 4th Ave SW Burien\, WA 98166
UID:e.2591.2845
SEQUENCE:3
DTSTAMP:20260424T112030Z
URL:http://seattlesouthsidechamber.com/events/details/hi-liners-musical-theatre-presents-magic-tree-house-pirates-past-noon-kids-2845
END:VEVENT

END:VCALENDAR
