BEGIN:VCALENDAR
VERSION:2.0
PRODID:-//ChamberMaster//Event Calendar 2.0//EN
METHOD:PUBLISH
X-PUBLISHED-TTL:P3D
REFRESH-INTERVAL:P3D
CALSCALE:GREGORIAN
BEGIN:VEVENT
DTSTART;VALUE=DATE:20181205
DTEND;VALUE=DATE:20181206
TRANSP:TRANSPARENT
X-MICROSOFT-CDO-ALLDAYEVENT:TRUE
SUMMARY:Hi-Liner's Musical Theatre Fundraiser at Endolyne Joe's
DESCRIPTION:Join your neighbors or bring a friend to Endolyne Joes on December 5th for a taste of Argentina!  25% of ALL proceeds that day will be donated to The Hi-Liners Musical Theatre\, South King County's preeminent youth musical theatre.  \n\nEnjoy breakfast\, lunch\, dinner or a coffee with clients (choose from a taste of Argentina or updated American classics).  Your meal will support programs that help South King County kids ages 4-22 become confident and creative through theatre camps\, classes\, productions and advanced theatre training.\n\nCome enjoy great food and "do good" at the same time!
X-ALT-DESC;FMTTYPE=text/html:Join your neighbors or bring a friend to Endolyne Joes on December 5th for a taste of Argentina!&nbsp\;&nbsp\;<strong>25% of ALL proceeds that day will be donated to The Hi-Liners Musical Theatre</strong>\, South King County&rsquo\;s preeminent youth musical theatre.&nbsp\;&nbsp\;<br />\nEnjoy breakfast\, lunch\, dinner or a coffee with clients (choose from a taste of Argentina or updated American classics).&nbsp\; Your meal will support programs that help South King County kids ages 4-22 become confident and creative through theatre camps\, classes\, productions and advanced theatre training.<br />\n<span style="font-family:calibri\,sans-serif\;"><span style="font-size:11.0pt\;">Come enjoy great food and &ldquo\;do good&rdquo\; at the same time!&nbsp\;</span></span>
LOCATION:Endolyne Joe's 9261 34th Ave SW Seattle\, WA 98136
UID:e.2591.2632
SEQUENCE:3
DTSTAMP:20260424T155028Z
URL:http://seattlesouthsidechamber.com/events/details/hi-liner-s-musical-theatre-fundraiser-at-endolyne-joe-s-2632
END:VEVENT

END:VCALENDAR
