BEGIN:VCALENDAR
VERSION:2.0
PRODID:-//ChamberMaster//Event Calendar 2.0//EN
METHOD:PUBLISH
X-PUBLISHED-TTL:P3D
REFRESH-INTERVAL:P3D
CALSCALE:GREGORIAN
BEGIN:VEVENT
DTSTART:20180916T200000Z
DTEND:20180917T000000Z
X-MICROSOFT-CDO-ALLDAYEVENT:FALSE
SUMMARY:Heirloom Tomato Festival at Cedarbrook Lodge
DESCRIPTION:Cedarbrook Lodge's 8th annual Heirloom TomatoFare will showcase the abundant harvest of heirloom tomatoes in the Pacific Northwest. Guests will have the opportunity to sample heirloom tomatoes\, as well as heirloom tomato-inspired dishes prepared by some of the top Pacific Northwest chefs! Stay tuned for the complete line-up of award winning chefs. Heirloom tomatoes will also be available for purchase.  \n\n\n\nJoining them for the festivities will be artisan growers Gene and Geri Prentice and John and Nancy Bromiley \, who provide Copperleaf with their heirloom tomatoes. Each spring the Prentices offer over 65 varieties of unique and unusual tomato seedlings. The Bromileys have over 430 tomato plants at their one acre Moses Lake mini-farm\, where they also raise squash\, cabbage\, corn\, and cucumbers which are all served at Copperleaf.
X-ALT-DESC;FMTTYPE=text/html:<span style="box-sizing: border-box\; display: inline-block\; color: rgb(77\, 77\, 77)\; font-family: Neuton\, sans-serif\; font-size: 15px\; letter-spacing: 0.16px\;">Cedarbrook Lodge&#39\;s 8th annual Heirloom TomatoFare will showcase the abundant harvest of heirloom tomatoes in the Pacific Northwest. Guests will have the opportunity to sample heirloom tomatoes\, as well as heirloom tomato-inspired dishes prepared by some of the top Pacific Northwest chefs! Stay tuned for the complete line-up of award winning chefs. Heirloom tomatoes will also be available for purchase. &nbsp\;</span><br style="box-sizing: border-box\; color: rgb(77\, 77\, 77)\; font-family: Neuton\, sans-serif\; font-size: 15px\; letter-spacing: 0.16px\;" />\n<br style="box-sizing: border-box\; color: rgb(77\, 77\, 77)\; font-family: Neuton\, sans-serif\; font-size: 15px\; letter-spacing: 0.16px\;" />\n<span style="box-sizing: border-box\; display: inline-block\; color: rgb(77\, 77\, 77)\; font-family: Neuton\, sans-serif\; font-size: 15px\; letter-spacing: 0.16px\;">Joining them for the festivities will be artisan growers Gene and Geri Prentice and John and Nancy Bromiley \, who provide Copperleaf with their heirloom tomatoes. Each spring the Prentices offer over 65 varieties of unique and unusual tomato seedlings. The Bromileys have over 430 tomato plants at their one acre Moses Lake mini-farm\, where they also raise squash\, cabbage\, corn\, and cucumbers which are all served at Copperleaf.</span>
LOCATION:Copperleaf Restaurant-Cedarbrook Lodge 18525 36th Avenue South\, SeaTac\, WA 98188 206-901-9268
UID:e.2591.2484
SEQUENCE:3
DTSTAMP:20260424T204212Z
URL:http://seattlesouthsidechamber.com/events/details/heirloom-tomato-festival-at-cedarbrook-lodge-2484
END:VEVENT

END:VCALENDAR
