BEGIN:VCALENDAR
VERSION:2.0
PRODID:-//ChamberMaster//Event Calendar 2.0//EN
METHOD:PUBLISH
X-PUBLISHED-TTL:P3D
REFRESH-INTERVAL:P3D
CALSCALE:GREGORIAN
BEGIN:VEVENT
DTSTART:20181020T200000Z
DTEND:20181020T220000Z
X-MICROSOFT-CDO-ALLDAYEVENT:FALSE
SUMMARY:Green Cities Open House: SeaTac
DESCRIPTION:Do you live in SeaTac? Are you interested in making your neighborhood a greener\, healthier\, more beautiful place to live? Join our Green Cities team at a community open house to share your ideas about how to create healthy forested areas in your city! Food and childcare will be provided\, please contact us for interpretation needs.\n\nIf you can't make the events\, your feedback is still important! Fill out the community survey by November 7th!
X-ALT-DESC;FMTTYPE=text/html:<p style="background-color: transparent\; box-sizing: border-box\; font-size: 17px\; font-variant-numeric: normal\; font-variant-east-asian: normal\; line-height: 27.62px\; margin: 0px 0px 20px\;">Do you live in SeaTac? Are you interested in making your neighborhood a greener\, healthier\, more beautiful place to live? Join our Green Cities team at a community open house to share your ideas about how to create healthy forested areas in your city! Food and childcare will be provided\, please contact us for interpretation needs.<br />\nIf you can&rsquo\;t make the events\, your feedback is still important! Fill out the community survey by November 7th!</p>\n
LOCATION:Tyee High School Cafeteria 4424 S 188th St SeaTac\, WA 98188
UID:e.2591.2584
SEQUENCE:3
DTSTAMP:20260424T185229Z
URL:http://seattlesouthsidechamber.com/events/details/green-cities-open-house-seatac-2584
END:VEVENT

END:VCALENDAR
