BEGIN:VCALENDAR
VERSION:2.0
PRODID:-//ChamberMaster//Event Calendar 2.0//EN
METHOD:PUBLISH
X-PUBLISHED-TTL:P3D
REFRESH-INTERVAL:P3D
CALSCALE:GREGORIAN
BEGIN:VEVENT
DTSTART:20180628T233000Z
DTEND:20180629T020000Z
X-MICROSOFT-CDO-ALLDAYEVENT:FALSE
SUMMARY:Grand Opening Party - The Residence Inn Seattle SeaTac/Airport
DESCRIPTION:Cocktails & Heavy Hors D'oeuvres\, Live Music\, Extravagant Prizes
X-ALT-DESC;FMTTYPE=text/html:Cocktails &amp\; Heavy Hors D&#39\;oeuvres\, Live Music\, Extravagant Prizes
LOCATION:Residence Inn SeaTac 19608 International Blvd. SeaTac\, WA 98188
UID:e.2591.2128
SEQUENCE:3
DTSTAMP:20260425T012749Z
URL:http://seattlesouthsidechamber.com/events/details/grand-opening-party-the-residence-inn-seattle-seatac-airport-2128
END:VEVENT

END:VCALENDAR
