BEGIN:VCALENDAR
VERSION:2.0
PRODID:-//ChamberMaster//Event Calendar 2.0//EN
METHOD:PUBLISH
X-PUBLISHED-TTL:P3D
REFRESH-INTERVAL:P3D
CALSCALE:GREGORIAN
BEGIN:VEVENT
DTSTART:20190116T180000Z
DTEND:20190118T020000Z
X-MICROSOFT-CDO-ALLDAYEVENT:FALSE
SUMMARY:Grand Opening Job Fair Hilton Garden Inn Seattle Airport
DESCRIPTION:Hilton Garden Inn Seattle Airport is hiring for all positions\, in anticipation for their Grand Opening. It is a 2-day event\, located at their sister property The Hampton Inn & Suites Renton.On the spot interviews with every department manager. Every position we will interview for\, Full Time\, Part Time\, all shifts available.\n\n\n\n- Guest Service Representative\n\n- Guest Service Supervisor\n\n-Shuttle Driver\n\n-Night Auditor\n\n-Cook\n\n-Bartender\n\n- Room Attendant\n\n-Laundry Attendant\n\n- Room Inspector/Supervisor\n\n- Houseperson\n\n- Cook\n\n- Server
X-ALT-DESC;FMTTYPE=text/html:Hilton Garden Inn Seattle Airport is hiring for all positions\, in anticipation for their Grand Opening.&nbsp\;It is a 2-day event\, located at their sister property The Hampton Inn &amp\; Suites Renton.On the spot interviews with every department manager. Every position we will interview for\, Full Time\, Part Time\, all shifts available.<br />\n<br />\n- Guest Service Representative<br />\n- Guest Service Supervisor<br />\n-Shuttle Driver<br />\n-Night Auditor<br />\n-Cook<br />\n-Bartender<br />\n- Room Attendant<br />\n-Laundry Attendant<br />\n- Room Inspector/Supervisor<br />\n- Houseperson<br />\n- Cook<br />\n- Server
LOCATION:Job Fair Location: Hampton Inn & Suites Seattle/Renton 1300 Lake Washington Blvd N Renton\, WA 98056 Please note: Hilton Garden Inn is located at 3056 S 188th St. SeaTac WA 98188
UID:e.2591.2752
SEQUENCE:3
DTSTAMP:20260424T155329Z
URL:http://seattlesouthsidechamber.com/events/details/grand-opening-job-fair-hilton-garden-inn-seattle-airport-2752
END:VEVENT

END:VCALENDAR
