BEGIN:VCALENDAR
VERSION:2.0
PRODID:-//ChamberMaster//Event Calendar 2.0//EN
METHOD:PUBLISH
X-PUBLISHED-TTL:P3D
REFRESH-INTERVAL:P3D
CALSCALE:GREGORIAN
BEGIN:VEVENT
DTSTART:20180203T193000Z
DTEND:20180203T200000Z
X-MICROSOFT-CDO-ALLDAYEVENT:FALSE
SUMMARY:Grand Opening and Ribbon Cutting for Tempur-Pedic
DESCRIPTION:Please join us for a Grand Opening and Ribbon Cutting Celebration to welcome the first Flagship Tempur-Pedic store to Tukwila! Food will be catered by Chamber Member Panera Bread.
X-ALT-DESC;FMTTYPE=text/html:Please join us for a Grand Opening and Ribbon Cutting Celebration&nbsp\;to welcome the first Flagship Tempur-Pedic&nbsp\;store to Tukwila! Food will be catered by Chamber Member Panera Bread.
LOCATION:17195 Southcenter Pkwy in beautiful Tukwila\, WA.
UID:e.2591.1074
SEQUENCE:3
DTSTAMP:20260425T104525Z
URL:http://seattlesouthsidechamber.com/events/details/grand-opening-and-ribbon-cutting-for-tempur-pedic-1074
END:VEVENT

END:VCALENDAR
