BEGIN:VCALENDAR
VERSION:2.0
PRODID:-//ChamberMaster//Event Calendar 2.0//EN
METHOD:PUBLISH
X-PUBLISHED-TTL:P3D
REFRESH-INTERVAL:P3D
CALSCALE:GREGORIAN
BEGIN:VEVENT
DTSTART:20171214T230000Z
DTEND:20171215T000000Z
X-MICROSOFT-CDO-ALLDAYEVENT:FALSE
SUMMARY:Government Affairs Committee
DESCRIPTION:The Governmental Affairs Committee focuses on the issues that matter most in our region and the communities we serve and notifies the Chamber Board when a specific position needs to be taken. The Seattle Southside Chamber is also part of the South Sound Chamber of Commerce Legislative Coalition (SSCCLC)\, whose collaborative advocacy efforts work to improve the business climate. The work of the Governmental Affairs committee allows the Chamber to serve as the voice of business at all levels of government to include monitoring and advocating for legislative issues and concerns. \n\n \n\nThis committee meets monthly at the Chamber office\, if you are interested in serving on this committee or would like more information\, please contact Andrea Reay at andrea@seattlesouthsidechamber.com
X-ALT-DESC;FMTTYPE=text/html:<p style="box-sizing: border-box\; margin: 0px 0px 12px\; font-family: Oxygen\, sans-serif\; line-height: 1.4\; font-size: 16px\; letter-spacing: 0.5px\;">The Governmental Affairs Committee focuses on the issues that matter most in our region and the communities we serve and notifies the Chamber Board when a specific position needs to be taken. The Seattle Southside Chamber is also part of the South Sound Chamber of Commerce Legislative Coalition (SSCCLC)\, whose collaborative advocacy efforts work to improve the business climate. The work of the Governmental Affairs committee allows the Chamber to serve as the voice of business at all levels of government to include monitoring and advocating for legislative issues and concerns.&nbsp\;</p>\n\n<p style="box-sizing: border-box\; margin: 0px 0px 12px\; font-family: Oxygen\, sans-serif\; line-height: 1.4\; font-size: 16px\; letter-spacing: 0.5px\;">&nbsp\;</p>\n\n<p style="box-sizing: border-box\; margin: 0px 0px 12px\; font-family: Oxygen\, sans-serif\; line-height: 1.4\; font-size: 16px\; letter-spacing: 0.5px\;">This committee meets monthly at the Chamber office\, if you are interested in serving on this committee or would like more information\, please contact Andrea Reay at&nbsp\;<u style="box-sizing: border-box\;"><a href="mailto:andrea@seattlesouthsidechamber.com?subject=Governmental%20Affairs%20Committee" style="box-sizing: border-box\; background-color: transparent\; color: rgb(0\, 62\, 107)\; text-decoration-line: none\;">andrea@seattlesouthsidechamber.com</a></u></p>\n
LOCATION:Chamber Office 14220 Interurban AVE S #134 Tukwila\, WA 98168
UID:e.2591.830
SEQUENCE:3
DTSTAMP:20260425T120014Z
URL:http://seattlesouthsidechamber.com/events/details/government-affairs-committee-12-14-2017-830
END:VEVENT

END:VCALENDAR
