BEGIN:VCALENDAR
VERSION:2.0
PRODID:-//ChamberMaster//Event Calendar 2.0//EN
METHOD:PUBLISH
X-PUBLISHED-TTL:P3D
REFRESH-INTERVAL:P3D
CALSCALE:GREGORIAN
BEGIN:VEVENT
DTSTART:20190613T220000Z
DTEND:20190613T230000Z
X-MICROSOFT-CDO-ALLDAYEVENT:FALSE
SUMMARY:Government Affairs Committee
DESCRIPTION:The Governmental Affairs Committee focuses on the issues that matter most in our region and the communities we serve and notifies the Chamber Board when a specific position needs to be taken. The Seattle Southside Chamber is also part of the South Sound Chamber of Commerce Legislative Coalition (SSCCLC)\, whose collaborative advocacy efforts work to improve the business climate. The work of the Governmental Affairs committee allows the Chamber to serve as the voice of business at all levels of government to include monitoring and advocating for legislative issues and concerns. \n\nThis committee meets monthly at the Chamber office\, if you are interested in serving on this committee or would like more information\, please contact Andrea Reay at andrea@seattlesouthsidechamber.com
X-ALT-DESC;FMTTYPE=text/html:<p>The Governmental Affairs Committee focuses on the issues that matter most in our region and the communities we serve and notifies the Chamber Board when a specific position needs to be taken. The Seattle Southside Chamber is also part of the South Sound Chamber of Commerce Legislative Coalition (SSCCLC)\, whose collaborative advocacy efforts work to improve the business climate. The work of the Governmental Affairs committee allows the Chamber to serve as the voice of business at all levels of government to include monitoring and advocating for legislative issues and concerns.&nbsp\;</p>\n\n<p>This committee meets monthly at the Chamber office\, if you are interested in serving on this committee or would like more information\, please contact Andrea Reay at&nbsp\;<a href="mailto:andrea@seattlesouthsidechamber.com?subject=Governmental%20Affairs%20Committee">andrea@seattlesouthsidechamber.com</a></p>\n
LOCATION:Chamber Office 14220 Interurban Ave S #134 Tukwila\, WA 98168
UID:e.2591.2701
SEQUENCE:3
DTSTAMP:20260424T044632Z
URL:http://seattlesouthsidechamber.com/events/details/government-affairs-committee-06-13-2019-2701
END:VEVENT

END:VCALENDAR
