BEGIN:VCALENDAR
VERSION:2.0
PRODID:-//ChamberMaster//Event Calendar 2.0//EN
METHOD:PUBLISH
X-PUBLISHED-TTL:P3D
REFRESH-INTERVAL:P3D
CALSCALE:GREGORIAN
BEGIN:VEVENT
DTSTART:20181020T170000Z
DTEND:20181020T220000Z
X-MICROSOFT-CDO-ALLDAYEVENT:FALSE
SUMMARY:Friends Library Book Sale - Tukwila Library
DESCRIPTION:Great prices! Wonderful selection! Proceeds support programs at the Tukwila Library throughout the year. Book donations accepted.
X-ALT-DESC;FMTTYPE=text/html:<span style="color: rgb(102\, 102\, 102)\; font-family: &quot\;Open Sans&quot\;\, Arial\, sans-serif\; font-size: 15px\;">Great prices! Wonderful selection! Proceeds support programs at the Tukwila Library throughout the year. Book donations accepted.</span>
LOCATION:Tukwila Library 14380 Tukwila International Boulevard Tukwila\,WA 98168
UID:e.2591.2562
SEQUENCE:3
DTSTAMP:20260424T185537Z
URL:http://seattlesouthsidechamber.com/events/details/friends-library-book-sale-tukwila-library-2562
END:VEVENT

END:VCALENDAR
