BEGIN:VCALENDAR
VERSION:2.0
PRODID:-//ChamberMaster//Event Calendar 2.0//EN
METHOD:PUBLISH
X-PUBLISHED-TTL:P3D
REFRESH-INTERVAL:P3D
CALSCALE:GREGORIAN
BEGIN:VEVENT
DTSTART:20190309T170000Z
DTEND:20190311T000000Z
X-MICROSOFT-CDO-ALLDAYEVENT:FALSE
SUMMARY:Frequent Traveler University Signature Seattle 2019
DESCRIPTION:2 days of sessions led by Speakers with wide ranging expertise in all things miles and points. Our FTU Signature Event Speakers each bring their own passion of travel to their sessions. We invite you to learn more about each of our speakers\, and how their expertise will advance your knowledge of travel\, loyalty and rewards. Frequent Traveler University is the world's premier educational series of seminars devoted to teaching travelers the best way to maximize their frequent flyer miles\, hotel points and credit card rewards\, while learning about new destinations\, tools\, and loyalty program intricacies to help make their travel cheaper\, more comfortable and more luxurious.
X-ALT-DESC;FMTTYPE=text/html:2 days of sessions led by Speakers with wide ranging expertise in all things miles and points. Our FTU Signature Event Speakers each bring their own passion of travel to their sessions. We invite you to learn more about each of our speakers\, and how their expertise will advance your knowledge of travel\, loyalty and rewards. Frequent Traveler University is the world&rsquo\;s premier educational series of seminars devoted to teaching travelers the best way to maximize their frequent flyer miles\, hotel points and credit card rewards\, while learning about new destinations\, tools\, and loyalty program intricacies to help make their travel cheaper\, more comfortable and more luxurious.
LOCATION:Hilton Seattle Airport & Conference Center 17620 International Blvd Seattle\, WA 98188\, USA
UID:e.2591.2828
SEQUENCE:3
DTSTAMP:20260424T112102Z
URL:http://seattlesouthsidechamber.com/events/details/frequent-traveler-university-signature-seattle-2019-2828
END:VEVENT

END:VCALENDAR
